BEGIN:VCALENDAR
VERSION:2.0
PRODID:-//America&#039;s Car Museum - ECPv6.1.3//NONSGML v1.0//EN
CALSCALE:GREGORIAN
METHOD:PUBLISH
X-WR-CALNAME:America&#039;s Car Museum
X-ORIGINAL-URL:https://www.americascarmuseum.org
X-WR-CALDESC:Events for America&#039;s Car Museum
REFRESH-INTERVAL;VALUE=DURATION:PT1H
X-Robots-Tag:noindex
X-PUBLISHED-TTL:PT1H
BEGIN:VTIMEZONE
TZID:America/Los_Angeles
BEGIN:DAYLIGHT
TZOFFSETFROM:-0800
TZOFFSETTO:-0700
TZNAME:PDT
DTSTART:20230312T100000
END:DAYLIGHT
BEGIN:STANDARD
TZOFFSETFROM:-0700
TZOFFSETTO:-0800
TZNAME:PST
DTSTART:20231105T090000
END:STANDARD
END:VTIMEZONE
BEGIN:VEVENT
DTSTART;TZID=America/Los_Angeles:20230512T100000
DTEND;TZID=America/Los_Angeles:20230512T170000
DTSTAMP:20230824T044719
CREATED:20230502T225106Z
LAST-MODIFIED:20230502T225106Z
UID:20990-1683885600-1683910800@www.americascarmuseum.org
SUMMARY:Tacoma Garden Club Flower Show
DESCRIPTION:DRIVEN BY DESIGN\nGARDEN CLUB OF AMERICA FLOWER SHOW\nPresented by The Tacoma Garden Club \nHosted by LeMay – America’s Car Museum \nIncluded with your Museum admission or Museum membership at no extra cost! \nFriday\, May 12\, from 10:00 am to 5:00 pm\nSaturday\, May 13 from 10:00 am to 5:00 pm \nGarden Speakers: Marianne Binetti on Friday\, May 12 at 3:00 PM\nCiscoe Morris on Saturday\, May 13 at 10:00 AM \n\n\n\n\n\n\nThe Tacoma Garden Club presents a GCA Flower Show\, “Driven by Design.” The show will feature exhibits from floral designers\, horticulturists\, and photographers from across the country. With flowers on cars\, in trucks\, and hood ornaments made of flowers! National judges will critique and award ribbons to winning entries. \nFeatured Exhibits Include:\nAerial Floral Designs featuring floral arrangements interpreting classic cars in the lobby of the museum. \nFloral Designs inspired by themes such as\, “Are We There Yet?\,” “A Long and Winding Road\,” “All I Wanted Was\na Car\,” and “A Tailgate Party” will be on the second floor of the museum. \nBotanical Arts displays tiaras and hood ornaments crafted from dried plant materials. \nHorticulture Exhibits showcases cut specimens of locally-grown plants as well as container plantings. \nPhotographs with car-related themes such as “Rev it Up\,” “Roadside Attraction\,” “Vintage Glory\,” “Scenic\nByways\,” and “Classic Beauty” will be displayed. \nEducational Conservation Exhibit informs us of the restoration and protection of native plants along salmon\nstreams in Pierce County’s watersheds.
URL:https://www.americascarmuseum.org/event/tacoma-garden-club-flower-show/2023-05-12/
LOCATION:America’s Car Museum
ATTACH;FMTTYPE=image/png:https://www.americascarmuseum.org/wp-content/uploads/DD-Logo-Final-600x384-1.png
GEO:47.2376393;-122.4288203
END:VEVENT
END:VCALENDAR