BEGIN:VCALENDAR
VERSION:2.0
PRODID:-//America&#039;s Car Museum - ECPv6.1.3//NONSGML v1.0//EN
CALSCALE:GREGORIAN
METHOD:PUBLISH
X-ORIGINAL-URL:https://www.americascarmuseum.org
X-WR-CALDESC:Events for America&#039;s Car Museum
REFRESH-INTERVAL;VALUE=DURATION:PT1H
X-Robots-Tag:noindex
X-PUBLISHED-TTL:PT1H
BEGIN:VTIMEZONE
TZID:America/Los_Angeles
BEGIN:DAYLIGHT
TZOFFSETFROM:-0800
TZOFFSETTO:-0700
TZNAME:PDT
DTSTART:20230312T100000
END:DAYLIGHT
BEGIN:STANDARD
TZOFFSETFROM:-0700
TZOFFSETTO:-0800
TZNAME:PST
DTSTART:20231105T090000
END:STANDARD
END:VTIMEZONE
BEGIN:VEVENT
DTSTART;TZID=America/Los_Angeles:20230513T100000
DTEND;TZID=America/Los_Angeles:20230513T130000
DTSTAMP:20230824T044713
CREATED:20230502T230635Z
LAST-MODIFIED:20230503T001255Z
UID:21000-1683972000-1683982800@www.americascarmuseum.org
SUMMARY:Cars & Cops at Griot's Garage
DESCRIPTION:Join ACM at Griot’s Garage on Saturday\, May 13 from 10AM – 1PM as we hang out with our local Tacoma Police Department for their Cars & Cops car show! This event benefits local food pantries in Pierce County. Those attending the car show are encouraged to bring non-perishable food items to donate if possible. \nLocation of event: Griot’s Garage – 3333 S. 38th St. Tacoma\, WA 98409\nUse code 10POLICE to save 10% on any level of Museum membership when you sign up\, renew\, or upgrade between now and the end of the year! 
URL:https://www.americascarmuseum.org/event/carsandcops/
LOCATION:Griot’s Garage\, 3333 South 38th Street\, Tacoma\, WA\, 98409\, United States
ATTACH;FMTTYPE=image/jpeg:https://www.americascarmuseum.org/wp-content/uploads/Cars-Cops-With-a-Purpose-header.jpg
END:VEVENT
BEGIN:VEVENT
DTSTART;TZID=America/Los_Angeles:20230513T113000
DTEND;TZID=America/Los_Angeles:20230513T123000
DTSTAMP:20230824T044713
CREATED:20230505T154430Z
LAST-MODIFIED:20230505T160432Z
UID:21039-1683977400-1683981000@www.americascarmuseum.org
SUMMARY:If Cars Could Talk -- The Art and Flair of the Hood Ornament
DESCRIPTION:In the land of designer logos\, the hood ornament holds a unique place. The identity of the car could be found in the hood ornament\, also known as Motor Mascots. The refined artwork in a motor mascot reflected movements in society and stylistic eras. Manufacturers put serious thought into these miniature symbols of their brands. And sometimes–hidden meanings! Join ACM Curator\, Pandora Paul\, and find out what these masterpieces say about the cars\, people who own the cars\, and historic events \nThe If Cars Could Talk lecture series is FREE for ACM Members and is also included with Museum admission. Bring a lunch to enjoy\, light refreshments provided. \n 
URL:https://www.americascarmuseum.org/event/if-cars-could-talk-the-art-and-flair-of-the-hood-ornament/
LOCATION:LeMay – America’s Car Museum\, 2702 East D Street\, Tacoma\, WA\, 98421\, United States
CATEGORIES:Education Events,If Cars Could Talk
ATTACH;FMTTYPE=image/jpeg:https://www.americascarmuseum.org/wp-content/uploads/IMG_4497.jpg
ORGANIZER;CN="Education%20Department":MAILTO:education@americascarmuseum.org
GEO:47.2362706;-122.4304605
X-APPLE-STRUCTURED-LOCATION;VALUE=URI;X-ADDRESS=LeMay – America’s Car Museum 2702 East D Street Tacoma WA 98421 United States;X-APPLE-RADIUS=500;X-TITLE=2702 East D Street:geo:-122.4304605,47.2362706
END:VEVENT
END:VCALENDAR