BEGIN:VCALENDAR
VERSION:2.0
PRODID:-//America&#039;s Car Museum - ECPv6.1.3//NONSGML v1.0//EN
CALSCALE:GREGORIAN
METHOD:PUBLISH
X-WR-CALNAME:America&#039;s Car Museum
X-ORIGINAL-URL:https://www.americascarmuseum.org
X-WR-CALDESC:Events for America&#039;s Car Museum
REFRESH-INTERVAL;VALUE=DURATION:PT1H
X-Robots-Tag:noindex
X-PUBLISHED-TTL:PT1H
BEGIN:VTIMEZONE
TZID:America/Los_Angeles
BEGIN:DAYLIGHT
TZOFFSETFROM:-0800
TZOFFSETTO:-0700
TZNAME:PDT
DTSTART:20210314T100000
END:DAYLIGHT
BEGIN:STANDARD
TZOFFSETFROM:-0700
TZOFFSETTO:-0800
TZNAME:PST
DTSTART:20211107T090000
END:STANDARD
BEGIN:DAYLIGHT
TZOFFSETFROM:-0800
TZOFFSETTO:-0700
TZNAME:PDT
DTSTART:20220313T100000
END:DAYLIGHT
BEGIN:STANDARD
TZOFFSETFROM:-0700
TZOFFSETTO:-0800
TZNAME:PST
DTSTART:20221106T090000
END:STANDARD
END:VTIMEZONE
BEGIN:VEVENT
DTSTART;TZID=America/Los_Angeles:20220122T103000
DTEND;TZID=America/Los_Angeles:20220122T120000
DTSTAMP:20230824T064532
CREATED:20211028T173918Z
LAST-MODIFIED:20211028T223619Z
UID:18459-1642847400-1642852800@www.americascarmuseum.org
SUMMARY:Car Club Spotlight: The History of Porsche
DESCRIPTION:Jay Gillotti\, Historian for the Pacific Northwest Region chapter of the Porsche Club of America\, will provide a basic overview of Porsche family and company history.  This will include both pre-World War II and post-war projects\, design\, and manufacturing.  We will also discuss the type numbering system and car names\, basic model histories\, and significant racing cars. \n \nHigh-Flex (in-person and Zoom options). Zoom link will be emailed the day before the event. \nPre-registration is required for this event. To register\, please use the link below. \nREGISTER HERE \nThis workshop is part of ACM’s Car Club Spotlight series. This series of educational talks represents a partnership between local car clubs and America’s Car Museum. If your car club is interested in presenting a workshop or talk at the Museum\, available to both club members and museum visitors please read more and find a link to the application on our Adult Programs page.
URL:https://www.americascarmuseum.org/event/car-club-spotlight-the-history-of-porsche/
LOCATION:LeMay – America’s Car Museum\, 2702 East D Street\, Tacoma\, WA\, 98421\, United States
CATEGORIES:Car Club Spotlight
ATTACH;FMTTYPE=image/jpeg:https://www.americascarmuseum.org/wp-content/uploads/HAV-131-1-scaled.jpg
ORGANIZER;CN="LeMay%20-%20America%27s%20Car%20Museum":MAILTO:RSVP@americascarmuseum.org
GEO:47.2362706;-122.4304605
X-APPLE-STRUCTURED-LOCATION;VALUE=URI;X-ADDRESS=LeMay – America’s Car Museum 2702 East D Street Tacoma WA 98421 United States;X-APPLE-RADIUS=500;X-TITLE=2702 East D Street:geo:-122.4304605,47.2362706
END:VEVENT
BEGIN:VEVENT
DTSTART;TZID=America/Los_Angeles:20211127T100000
DTEND;TZID=America/Los_Angeles:20211127T170000
DTSTAMP:20230824T064532
CREATED:20211105T192505Z
LAST-MODIFIED:20211112T193257Z
UID:18560-1638007200-1638032400@www.americascarmuseum.org
SUMMARY:Take a drive. Make a difference.
DESCRIPTION:Convene the Corvettes\, gather the Gear Heads\, muster the Mustangs! \nDrive on over to donate to the 2021 Holiday “Drive” at LeMay – America’s Car Museum. We invite you to stay and display your cars on the Anderson Plaza to show your community support! \nInvite your car club to meet up at the Museum on a Saturday or Sunday from November 26 – December 19 to make a difference. \nEvery donation of a new pair of warm socks\, a comforting blanket\, or an\nengaging book or toy will let a child\, teen\, or adult in need know that you care. You’ll help bring holiday cheer to a neighbor in need! \nTo reserve a date for your car club contact: Tricia Borgardt\, Guest Services Manager at 253.683.3947 or patricia.borgardt@americascarmuseum.org \nTake a drive. Make a difference. \nYour gifts will help individuals served by the Tacoma Rescue Mission and Toy Rescue Mission.
URL:https://www.americascarmuseum.org/event/take-a-drive-make-a-difference/2021-11-27/
LOCATION:LeMay – America’s Car Museum\, 2702 East D Street\, Tacoma\, WA\, 98421\, United States
CATEGORIES:Car Club Spotlight
ATTACH;FMTTYPE=image/jpeg:https://www.americascarmuseum.org/wp-content/uploads/CarPartSnowman-update-scaled.jpg
ORGANIZER;CN="Guest%20Services%20Manager":MAILTO:patricia.borgardt@americascarmuseum.org
GEO:47.2362706;-122.4304605
X-APPLE-STRUCTURED-LOCATION;VALUE=URI;X-ADDRESS=LeMay – America’s Car Museum 2702 East D Street Tacoma WA 98421 United States;X-APPLE-RADIUS=500;X-TITLE=2702 East D Street:geo:-122.4304605,47.2362706
END:VEVENT
END:VCALENDAR