BEGIN:VCALENDAR
VERSION:2.0
PRODID:-//America&#039;s Car Museum - ECPv6.1.3//NONSGML v1.0//EN
CALSCALE:GREGORIAN
METHOD:PUBLISH
X-WR-CALNAME:America&#039;s Car Museum
X-ORIGINAL-URL:https://www.americascarmuseum.org
X-WR-CALDESC:Events for America&#039;s Car Museum
REFRESH-INTERVAL;VALUE=DURATION:PT1H
X-Robots-Tag:noindex
X-PUBLISHED-TTL:PT1H
BEGIN:VTIMEZONE
TZID:America/Los_Angeles
BEGIN:DAYLIGHT
TZOFFSETFROM:-0800
TZOFFSETTO:-0700
TZNAME:PDT
DTSTART:20180311T100000
END:DAYLIGHT
BEGIN:STANDARD
TZOFFSETFROM:-0700
TZOFFSETTO:-0800
TZNAME:PST
DTSTART:20181104T090000
END:STANDARD
BEGIN:DAYLIGHT
TZOFFSETFROM:-0800
TZOFFSETTO:-0700
TZNAME:PDT
DTSTART:20190310T100000
END:DAYLIGHT
BEGIN:STANDARD
TZOFFSETFROM:-0700
TZOFFSETTO:-0800
TZNAME:PST
DTSTART:20191103T090000
END:STANDARD
BEGIN:DAYLIGHT
TZOFFSETFROM:-0800
TZOFFSETTO:-0700
TZNAME:PDT
DTSTART:20200308T100000
END:DAYLIGHT
BEGIN:STANDARD
TZOFFSETFROM:-0700
TZOFFSETTO:-0800
TZNAME:PST
DTSTART:20201101T090000
END:STANDARD
BEGIN:DAYLIGHT
TZOFFSETFROM:-0800
TZOFFSETTO:-0700
TZNAME:PDT
DTSTART:20210314T100000
END:DAYLIGHT
BEGIN:STANDARD
TZOFFSETFROM:-0700
TZOFFSETTO:-0800
TZNAME:PST
DTSTART:20211107T090000
END:STANDARD
BEGIN:DAYLIGHT
TZOFFSETFROM:-0800
TZOFFSETTO:-0700
TZNAME:PDT
DTSTART:20220313T100000
END:DAYLIGHT
BEGIN:STANDARD
TZOFFSETFROM:-0700
TZOFFSETTO:-0800
TZNAME:PST
DTSTART:20221106T090000
END:STANDARD
BEGIN:DAYLIGHT
TZOFFSETFROM:-0800
TZOFFSETTO:-0700
TZNAME:PDT
DTSTART:20230312T100000
END:DAYLIGHT
BEGIN:STANDARD
TZOFFSETFROM:-0700
TZOFFSETTO:-0800
TZNAME:PST
DTSTART:20231105T090000
END:STANDARD
END:VTIMEZONE
BEGIN:VEVENT
DTSTART;TZID=America/Los_Angeles:20230810T170000
DTEND;TZID=America/Los_Angeles:20230810T193000
DTSTAMP:20230824T050554
CREATED:20230501T180628Z
LAST-MODIFIED:20230726T023044Z
UID:20957-1691686800-1691695800@www.americascarmuseum.org
SUMMARY:CRUISE-IN AT ACM
DESCRIPTION:Cruise-Ins are back at ACM!\nBring your ride\, tell your car club\, and join us for some Cruise-In fun! FREE fun for the whole family. Both car and motorcycle clubs are welcome to join! We will feature music\, food trucks\, and People’s Choice Award with prizes! Cruise-Ins are open to all makes and models of collector cars\, trucks\, and motorcycles. \nDate: Thursday\, August 10\, 2023 | 5:00 pm – 7:30pm | plaza opens at 4:00pm for parking\nLocation: Anderson Plaza (In front of the Museum)\nCost: FREE\, no RSVP required | all ages welcome
URL:https://www.americascarmuseum.org/event/cruise-in-at-acm-5-2023-07-13/2023-08-10/
LOCATION:America’s Car Museum
CATEGORIES:Cruise-Ins
ATTACH;FMTTYPE=image/jpeg:https://www.americascarmuseum.org/wp-content/uploads/DJI_0509-scaled.jpg
GEO:47.2376393;-122.4288203
END:VEVENT
BEGIN:VEVENT
DTSTART;TZID=America/Los_Angeles:20230713T170000
DTEND;TZID=America/Los_Angeles:20230713T193000
DTSTAMP:20230824T050554
CREATED:20230501T180628Z
LAST-MODIFIED:20230726T023043Z
UID:20956-1689267600-1689276600@www.americascarmuseum.org
SUMMARY:CRUISE-IN AT ACM
DESCRIPTION:Cruise-Ins are back at ACM!\nBring your ride\, tell your car club\, and join us for some Cruise-In fun! FREE fun for the whole family. Both car and motorcycle clubs are welcome to join! We will feature music\, food trucks\, and People’s Choice Award with prizes! Cruise-Ins are open to all makes and models of collector cars\, trucks\, and motorcycles. \nDate: Thursday\, August 10\, 2023 | 5:00 pm – 7:30pm | plaza opens at 4:00pm for parking\nLocation: Anderson Plaza (In front of the Museum)\nCost: FREE\, no RSVP required | all ages welcome
URL:https://www.americascarmuseum.org/event/cruise-in-at-acm-5-2023-07-13/2023-07-13/
LOCATION:America’s Car Museum
CATEGORIES:Cruise-Ins
ATTACH;FMTTYPE=image/jpeg:https://www.americascarmuseum.org/wp-content/uploads/DJI_0509-scaled.jpg
GEO:47.2376393;-122.4288203
END:VEVENT
BEGIN:VEVENT
DTSTART;TZID=America/Los_Angeles:20230608T170000
DTEND;TZID=America/Los_Angeles:20230608T193000
DTSTAMP:20230824T050554
CREATED:20230501T180628Z
LAST-MODIFIED:20230517T213355Z
UID:20953-1686243600-1686252600@www.americascarmuseum.org
SUMMARY:CRUISE-IN AT ACM
DESCRIPTION:Cruise-Ins are back at ACM!\nBring your ride and join us for some FREE Cruise-In fun at America’s Car Museum on Thursday\, June 8 from 5-7:30pm! \nThe event will feature food trucks\, live entertainment\, and People’s Choice Award with prizes! Cruise-Ins are open to all makes and models of collector cars\, trucks\, and motorcycles. \nAvants will be the featured car club for this Cruise-In with reserved premier parking on ACM’s plaza and bus lane for all Avants car owners! \n  \nDate: Thursday\, June 8\, 2023 | 5:00 pm – 7:30pm | plaza opens at 4:00pm for parking \nLocation: Anderson Plaza (In front of the Museum) \nCost: FREE\, no RSVP required | all ages and all makes and models welcome
URL:https://www.americascarmuseum.org/event/cruise-in-at-acm-5/
LOCATION:America’s Car Museum
CATEGORIES:Cruise-Ins
ATTACH;FMTTYPE=image/jpeg:https://www.americascarmuseum.org/wp-content/uploads/June-8-Cruise-In-Facebook-Cover.jpg
GEO:47.2376393;-122.4288203
END:VEVENT
BEGIN:VEVENT
DTSTART;TZID=America/Los_Angeles:20220906T160000
DTEND;TZID=America/Los_Angeles:20220906T190000
DTSTAMP:20230824T050554
CREATED:20220721T220527Z
LAST-MODIFIED:20220829T065034Z
UID:20063-1662480000-1662490800@www.americascarmuseum.org
SUMMARY:Cruise-In at ACM
DESCRIPTION:Cruise-Ins are back at ACM!\nBring your ride\, tell your car or motorcycle club\, and join us for some FREE Cruise-In fun for the whole family. We will feature the People’s Choice Award with prizes\, including a Family Membership and 10-year anniversary limited-edition products from the ACM Museum Store for first\, second\, and third winners. Cruise-Ins are open to all makes and models of collector cars\, trucks\, and motorcycles. \nThis September 6 Cruise-In is extra special in that it will also kick off The Drive Home to the Mustang Stampede which\, in partnership with Ford Motor Company\, is an all-Mustang\, multi-state\, cross-country road trip from Tacoma to Detroit for The Stampede event on Sept. 14\, Ford’s global debut of the all-new\, seventh-generation Ford Mustang. The Drive Home arrival in Detroit will also be just in time for the Detroit Auto Show and Detroit Concours d’Elegance. \nDate: Tuesday\, September 6\, 2022\n4:00 pm – 7:00pm | Gates open at 2:30pm for parking | The Drive Home to The Mustang Stampede takes off around 6 pm\nLocation: Haub Family Field (Adjacent to the Museum)\nCost: FREE | RSVP recommended membership@aat.org | All ages welcome
URL:https://www.americascarmuseum.org/event/cruise-in-at-acm-4/
LOCATION:America’s Car Museum
CATEGORIES:Car Shows,Cruise-Ins,The Drive Home
ATTACH;FMTTYPE=image/jpeg:https://www.americascarmuseum.org/wp-content/uploads/Sept2022_Cruise-InsatACM_Mustang.jpg
GEO:47.2376393;-122.4288203
END:VEVENT
BEGIN:VEVENT
DTSTART;TZID=America/Los_Angeles:20211211T130000
DTEND;TZID=America/Los_Angeles:20211211T160000
DTSTAMP:20230824T050554
CREATED:20161130T184120Z
LAST-MODIFIED:20211209T050211Z
UID:6544-1639227600-1639238400@www.americascarmuseum.org
SUMMARY:12th Fan Day at America's Car Museum
DESCRIPTION:LeMay – America’s Car Museum and the Wheels of Boom Car Club have teamed up to help neighbors in need this holiday season. \nInvite your friends to drive on over to Anderson Plaza at ACM on Saturday\, December 11 from 1PM-4PM. \nBring a gift of a new pair of warm socks\, a comforting blanket\, or an engaging toy to help spread holiday cheer to a child\, teen\, or adult who is struggling. Then stay to check out the cool cars uniquely painted\, wrapped\, or decked out in lively Seahawk spirit by the dedicated 12th fans of Wheels of Boom. \nDo you have a vehicle decked out with team spirit? If so\, contact RSVP@americascarmuseum.org to join the special display! \nYour donated items will help individuals served by the Tacoma Rescue Mission and the Toy Rescue Mission. \n 
URL:https://www.americascarmuseum.org/event/12th-fan-day-at-acm/
LOCATION:America’s Car Museum
CATEGORIES:Car Shows,Cruise-Ins
ATTACH;FMTTYPE=image/jpeg:https://www.americascarmuseum.org/wp-content/uploads/image11.jpeg
ORGANIZER;CN="Guest%20Services%20Manager":MAILTO:patricia.borgardt@americascarmuseum.org
GEO:47.2376393;-122.4288203
END:VEVENT
BEGIN:VEVENT
DTSTART;TZID=America/Los_Angeles:20210808T100000
DTEND;TZID=America/Los_Angeles:20210808T120000
DTSTAMP:20230824T050554
CREATED:20210806T132131Z
LAST-MODIFIED:20210806T132131Z
UID:18297-1628416800-1628424000@www.americascarmuseum.org
SUMMARY:Cars & Coffee and Meet & Greet with Steve Saleen
DESCRIPTION:It is a rare breed of automotive trailblazers that are able to move from upper echelon race car drivers to OEM manufacturers of fine automobiles and supercars. Meet the legendary performance car builder and racer\, Steve Saleen at  America’s Car Museum. \n \nBring your vintage or modern collector car\, or motorcycle for coffee and donuts at the Anderson Plaza at America’s Car Museum. Guests can walk through the Saleen: A Journey from the Heart of a Racer to America’s Supercar exhibit as Steve Saleen gives personal insight into the vehicles on display.
URL:https://www.americascarmuseum.org/event/cars-coffee-and-meet-greet-with-steve-saleen/
CATEGORIES:Car Shows,Cruise-Ins,Exhibit Events
ATTACH;FMTTYPE=image/jpeg:https://www.americascarmuseum.org/wp-content/uploads/Top-Story_Steve-Saleen.jpg
ORGANIZER;CN="Sales%20Manager":MAILTO:ann.sweeney@americascarmuseum.org
END:VEVENT
BEGIN:VEVENT
DTSTART;TZID=America/Los_Angeles:20190822T160000
DTEND;TZID=America/Los_Angeles:20190822T190000
DTSTAMP:20230824T050554
CREATED:20190404T195306Z
LAST-MODIFIED:20190917T191148Z
UID:13550-1566489600-1566500400@www.americascarmuseum.org
SUMMARY:Cruise-Ins at ACM
DESCRIPTION:Cruise-Ins at ACM have ended for the 2019 season. Check back soon for 2020 dates! \n  \nWhip\, ride\, jalopy\, or baby. Whatever you call it\, motor over to the Cruise-Ins at ACM! All makes and models of collector cars and motorcycles are welcome to attend! \nNo vintage vehicle? No problem! Join us on ACM’s Haub Family Field for food\, fun\, music and an unbelievable gathering of collector vehicles. Cruise-Ins are FREE and fun for the whole family.
URL:https://www.americascarmuseum.org/event/cruise-ins-acm-3/
LOCATION:LeMay – America’s Car Museum\, 2702 East D Street\, Tacoma\, WA\, 98421\, United States
CATEGORIES:Cruise-Ins
ATTACH;FMTTYPE=image/png:https://www.americascarmuseum.org/wp-content/uploads/CruiseIn_MilitaryAppreciation_Event_FeatureImage.png
ORGANIZER;CN="Volunteer%20Coordinator":MAILTO:theresa.ball@americascarmuseum.org
GEO:47.2362706;-122.4304605
X-APPLE-STRUCTURED-LOCATION;VALUE=URI;X-ADDRESS=LeMay – America’s Car Museum 2702 East D Street Tacoma WA 98421 United States;X-APPLE-RADIUS=500;X-TITLE=2702 East D Street:geo:-122.4304605,47.2362706
END:VEVENT
BEGIN:VEVENT
DTSTART;TZID=America/Los_Angeles:20190718T160000
DTEND;TZID=America/Los_Angeles:20190718T190000
DTSTAMP:20230824T050554
CREATED:20190404T195036Z
LAST-MODIFIED:20190508T194906Z
UID:13547-1563465600-1563476400@www.americascarmuseum.org
SUMMARY:Cruise-Ins at ACM
DESCRIPTION:Whip\, ride\, jalopy\, or baby. Whatever you call it\, motor over to the Cruise-Ins at ACM! This month’s theme is “Summer of 69″! The Summer of Love gave us Easy Rider\, Woodstock and the Moon Landing. Celebrate this psychedelic decade with America’s Car Museum! Bring your groovy car\, truck\, or bike and enjoy food and drinks at the Thirst Responder Beer Garden. Can you dig it? \n \nNo vintage vehicle? No problem! Join us on ACM’s Haub Family Field for food\, fun\, music and an unbelievable gathering of collector vehicles. Cruise-Ins are FREE and fun for the whole family. \nOpen to all makes and models of collector cars and motorcycles. \nPartners
URL:https://www.americascarmuseum.org/event/cruise-ins-acm-2/
LOCATION:LeMay – America’s Car Museum\, 2702 East D Street\, Tacoma\, WA\, 98421\, United States
CATEGORIES:Cruise-Ins
ATTACH;FMTTYPE=image/png:https://www.americascarmuseum.org/wp-content/uploads/CruiseIn_SummerOf69_Event_FeatureImage.png
ORGANIZER;CN="Volunteer%20Coordinator":MAILTO:theresa.ball@americascarmuseum.org
GEO:47.2362706;-122.4304605
X-APPLE-STRUCTURED-LOCATION;VALUE=URI;X-ADDRESS=LeMay – America’s Car Museum 2702 East D Street Tacoma WA 98421 United States;X-APPLE-RADIUS=500;X-TITLE=2702 East D Street:geo:-122.4304605,47.2362706
END:VEVENT
BEGIN:VEVENT
DTSTART;TZID=America/Los_Angeles:20190620T160000
DTEND;TZID=America/Los_Angeles:20190620T190000
DTSTAMP:20230824T050554
CREATED:20190404T194742Z
LAST-MODIFIED:20190610T153729Z
UID:13543-1561046400-1561057200@www.americascarmuseum.org
SUMMARY:Cruise-Ins at ACM
DESCRIPTION:Whip\, ride\, jalopy\, or baby. Whatever you call it\, motor over to the Cruise-Ins at ACM! This month’s theme is “See the USA in your Chevrolet”! Chevrolet captured the world with their “bowtie” logo and catchy jingle “See the USA in your Chevrolet”. Show off your ride and grab food and drinks at Thirst Responder Beer Garden as we celebrate the most famous “bowtie” of them all. Chevy collector cars are encouraged\, but all makes and models of collector cars and motorcycles are welcome to attend! \n \nNo vintage vehicle? No problem! Join us on ACM’s Haub Family Field for food\, fun\, music and an unbelievable gathering of collector vehicles. Cruise-Ins are FREE and fun for the whole family. \nNOTE: The Museum will have extended hours until 7 pm for the Cruise-In on June 20. \nPartners\n                                                                                                                                                                                                                                                                                                                                                                                                                                                                                                                                                                                                                                                                                                                                                                                                                                                                                                                                                                                                                                                                                                                                                   \n 
URL:https://www.americascarmuseum.org/event/cruise-ins-acm/
LOCATION:LeMay – America’s Car Museum\, 2702 East D Street\, Tacoma\, WA\, 98421\, United States
CATEGORIES:Cruise-Ins
ATTACH;FMTTYPE=image/png:https://www.americascarmuseum.org/wp-content/uploads/CruiseIn_SeeTheUSA_Event_FeatureImage.png
ORGANIZER;CN="Volunteer%20Coordinator":MAILTO:theresa.ball@americascarmuseum.org
GEO:47.2362706;-122.4304605
X-APPLE-STRUCTURED-LOCATION;VALUE=URI;X-ADDRESS=LeMay – America’s Car Museum 2702 East D Street Tacoma WA 98421 United States;X-APPLE-RADIUS=500;X-TITLE=2702 East D Street:geo:-122.4304605,47.2362706
END:VEVENT
BEGIN:VEVENT
DTSTART;TZID=America/Los_Angeles:20180818T110000
DTEND;TZID=America/Los_Angeles:20180818T160000
DTSTAMP:20230824T050554
CREATED:20160713T201848Z
LAST-MODIFIED:20181105T203218Z
UID:11321-1534590000-1534608000@www.americascarmuseum.org
SUMMARY:Cruise-Ins at ACM: RockaBetty
DESCRIPTION:Whether you roll slow and low\, drift furiously\, or just got back from the track\, prepare yourself for a gleaming display of magnifcent automobiles and local fare at ACM.This year’s lineup includes some grit\, some “Lightning” and a nod to our favorite Betties. All Cruise-Ins are FREE fun for the whole family and include discounted admission to the Museum! \nROCKABETTY CRUISE-IN\nThis is an ode to our favorite Betties\, the ladies that love cars\, planes and rock n’ roll! This Americana car and motorcycle show is reminiscent of mid-century street parties. Bring that hot rod or hip ride as we show Tacoma the biggest bobbin’ bash of the summer. There will be a costume contest\, sock hop hosted by Johnny7 and the Black Crabs\, food trucks and beer garden. We will be partnering with the The Museum of Flight and other local vendors to make this a jivin’ good time. \nCRUISE-IN AT ACM | OPEN TO THE PUBLIC\nShow off your collector car or motorcycle at the Cruise-In and enter to win a People’s Choice award or come as a spectator and check out the vehicles on display. No pre-registration is required\, gates open at 9am for Cruise-In participants. People’s Choice Awards: Best Hot Rod\, Best Vintage\, Best Paint\, People’s Choice \nVIP Club Auto Happy Hour\nJoin the Club Auto VIP experience powered by Hagerty from 11am – 2pm! Purchase a VIP ticket for $30 in advance here which include entry to beer garden and the Museum\, food token and 2 drink tickets. \nPRESENTING PARTNER\n \n  \n  \n  \n  \nSteve Boone\nPhotos\nClick here to view photos from 2016. \nSponsorship\nJoin the party! Click here to view exciting sponsorship opportunities. \nCall for Vendors\nBring your business or food truck to the event! Click here for vendor information.
URL:https://www.americascarmuseum.org/event/cruiseins-2018-08-18/
LOCATION:America’s Car Museum
CATEGORIES:Car Shows,Cruise-Ins,Signature Events
ATTACH;FMTTYPE=image/jpeg:https://www.americascarmuseum.org/wp-content/uploads/Rockabetty_Ink_Small.jpg
ORGANIZER;CN="Signature%20Event%20Coordinator":MAILTO:reagan.bender@aat.org
GEO:47.2376393;-122.4288203
END:VEVENT
BEGIN:VEVENT
DTSTART;TZID=America/Los_Angeles:20180721T140000
DTEND;TZID=America/Los_Angeles:20180721T220000
DTSTAMP:20230824T050554
CREATED:20160713T201848Z
LAST-MODIFIED:20180721T010120Z
UID:11212-1532181600-1532210400@www.americascarmuseum.org
SUMMARY:Cruise-Ins at ACM: CARnival
DESCRIPTION:Whether you roll slow and low\, drift furiously\, or just got back from the track\, prepare yourself for a gleaming display of magnifcent automobiles and local fare at ACM.This year’s lineup includes some grit\, some “Lightning” and a nod to our favorite Betties. All Cruise-Ins are FREE fun for the whole family and include discounted admission to the Museum! \nCAR-nival CRUISE-IN\nWhat happens when you combine a car show\, drive-in movie\, family friendly games and fun? CARnival at America’s Car Museum! This all day interactive event is the perfect opportunity to showcase your car or truck and play too! There will be a bouncy house\, face painting with Juju’s Designs Face Painting and more! Design\, build\, tinker and learn together as you explore the world of automobiles at Family STEAM Day. Grab dinner at one of our food trucks and watch in your car\, blanket or chair\, either option will give you a great view of the 40-foot outdoor screen featuring Disney Pixar\, Cars 3! \nCRUISE-IN AT ACM | OPEN TO THE PUBLIC\nShow off your collector car or motorcycle at the Cruise-In and enter to win a People’s Choice award or come as a spectator and check out the vehicles on display. Come meet on the Haub Family Field and show off your vintage bike\, antique auto or classic car. No pre-registration is required\, gates open at 12pm for Cruise-In participants. People’s Choice Awards: Kids Choice\,Coolest Paint Job\, Fastest Standing Still\, People’s Choice \nVIP Club Auto Happy Hour\nJoin the Club Auto VIP experience powered by Hagerty from 1 – 4pm! Purchase a VIP ticket for $30 in advance here or from the Membership Tent on the Haub Family Field and Club Auto will be your private space to cool off\, relax and enjoy some refreshments. \nCALL FOR HAGERTY YOUTH JUDGES\n \nDoes your child like cars and want a chance to learn more about some really cool classics? Sign them up to be a Hagerty Youth Judge at the CARnival Cruise-In! This program is designed to get youth ages 8-14 more involved in collector cars by interacting with cars and their owners. The program is free\, starts at 2pm\, and lasts 90 minutes. \nTo register your child\, please contact education@americascarmuseum.org or call 253.683.3964. Space is limited. \nPRESENTING PARTNER\n \n  \n  \n  \n  \nSteve Boone\nParking\nCruise-In attendees please park in Lot A. \n \n  \nPhotos\nClick here to view photos from 2017. \nSponsorship\nJoin the party! Click here to view exciting sponsorship opportunities. \nCall for Vendors\nBring your business or food truck to the event! Click here for vendor information.
URL:https://www.americascarmuseum.org/event/cruiseins-2018-07-21/
LOCATION:America’s Car Museum
CATEGORIES:Car Shows,Cruise-Ins,Signature Events
ATTACH;FMTTYPE=image/jpeg:https://www.americascarmuseum.org/wp-content/uploads/CARnival_Small.jpg
ORGANIZER;CN="Signature%20Event%20Coordinator":MAILTO:reagan.bender@aat.org
GEO:47.2376393;-122.4288203
END:VEVENT
END:VCALENDAR