BEGIN:VCALENDAR
VERSION:2.0
PRODID:-//America&#039;s Car Museum - ECPv6.1.3//NONSGML v1.0//EN
CALSCALE:GREGORIAN
METHOD:PUBLISH
X-WR-CALNAME:America&#039;s Car Museum
X-ORIGINAL-URL:https://www.americascarmuseum.org
X-WR-CALDESC:Events for America&#039;s Car Museum
REFRESH-INTERVAL;VALUE=DURATION:PT1H
X-Robots-Tag:noindex
X-PUBLISHED-TTL:PT1H
BEGIN:VTIMEZONE
TZID:America/Los_Angeles
BEGIN:DAYLIGHT
TZOFFSETFROM:-0800
TZOFFSETTO:-0700
TZNAME:PDT
DTSTART:20160313T100000
END:DAYLIGHT
BEGIN:STANDARD
TZOFFSETFROM:-0700
TZOFFSETTO:-0800
TZNAME:PST
DTSTART:20161106T090000
END:STANDARD
BEGIN:DAYLIGHT
TZOFFSETFROM:-0800
TZOFFSETTO:-0700
TZNAME:PDT
DTSTART:20170312T100000
END:DAYLIGHT
BEGIN:STANDARD
TZOFFSETFROM:-0700
TZOFFSETTO:-0800
TZNAME:PST
DTSTART:20171105T090000
END:STANDARD
BEGIN:DAYLIGHT
TZOFFSETFROM:-0800
TZOFFSETTO:-0700
TZNAME:PDT
DTSTART:20180311T100000
END:DAYLIGHT
BEGIN:STANDARD
TZOFFSETFROM:-0700
TZOFFSETTO:-0800
TZNAME:PST
DTSTART:20181104T090000
END:STANDARD
BEGIN:DAYLIGHT
TZOFFSETFROM:-0800
TZOFFSETTO:-0700
TZNAME:PDT
DTSTART:20190310T100000
END:DAYLIGHT
BEGIN:STANDARD
TZOFFSETFROM:-0700
TZOFFSETTO:-0800
TZNAME:PST
DTSTART:20191103T090000
END:STANDARD
BEGIN:DAYLIGHT
TZOFFSETFROM:-0800
TZOFFSETTO:-0700
TZNAME:PDT
DTSTART:20200308T100000
END:DAYLIGHT
BEGIN:STANDARD
TZOFFSETFROM:-0700
TZOFFSETTO:-0800
TZNAME:PST
DTSTART:20201101T090000
END:STANDARD
BEGIN:DAYLIGHT
TZOFFSETFROM:-0800
TZOFFSETTO:-0700
TZNAME:PDT
DTSTART:20210314T100000
END:DAYLIGHT
BEGIN:STANDARD
TZOFFSETFROM:-0700
TZOFFSETTO:-0800
TZNAME:PST
DTSTART:20211107T090000
END:STANDARD
BEGIN:DAYLIGHT
TZOFFSETFROM:-0800
TZOFFSETTO:-0700
TZNAME:PDT
DTSTART:20220313T100000
END:DAYLIGHT
BEGIN:STANDARD
TZOFFSETFROM:-0700
TZOFFSETTO:-0800
TZNAME:PST
DTSTART:20221106T090000
END:STANDARD
BEGIN:DAYLIGHT
TZOFFSETFROM:-0800
TZOFFSETTO:-0700
TZNAME:PDT
DTSTART:20230312T100000
END:DAYLIGHT
BEGIN:STANDARD
TZOFFSETFROM:-0700
TZOFFSETTO:-0800
TZNAME:PST
DTSTART:20231105T090000
END:STANDARD
END:VTIMEZONE
BEGIN:VEVENT
DTSTART;TZID=America/Los_Angeles:20230720T170000
DTEND;TZID=America/Los_Angeles:20230720T200000
DTSTAMP:20230824T070104
CREATED:20230518T215920Z
LAST-MODIFIED:20230720T194658Z
UID:21089-1689872400-1689883200@www.americascarmuseum.org
SUMMARY:Drive with Pride: Clay Day at LeMay
DESCRIPTION:Since the 1930’s\, clay modeling has been used as an integral part of the automotive design process. Every company from GM to Tesla still uses clay modeling today\, and Ford Motors has estimated that its design team uses upwards of 2\,000 pounds of clay designing just one vehicle! \nLeMay – America’s Car Museum is thrilled to host Drive with Pride: Clay Day at LeMay! Artist in residency at Olympia’s Artbutus Folk School\, Liz Mauro (they/ them) will be teaching a one-night clay sculpting event for participants to design and sculpt their very own car. Guests are invited to arrive early and enjoy beverages and snacks from 4 pm – 5 pm in the Showcase Gallery\, before our lesson and sculpting begin at 5 pm. \nAll sculpting must be done during this one-night event. Once the pieces dry and are fired\, participants are invited to return with a guest\, approximately 2-3 weeks following the event to pick up their pieces. \nRegistration includes full Museum access\, drinks & snacks\, clay sculpting lesson\, all necessary materials\, and firing & finishing of car sculptures (to be picked up at a later date.) Participants are also allowed free reentry including a +1 free ticket when they pick up their sculptures. \n***All participants must be 21+ with a valid government-issued ID*** \n4 pm – 5 pm – Check-in & Happy Hour/Museum Exploration \n5 pm – 8 pm – Hands-on Lesson and Sculpting! \nRegistration fee: $50 \nThis Event is Sold Out!\n* Please note that refunds cannot be issued following the close of program registration. In order to receive a refund prior to the close of registration\, all cancellations must be made in writing. \n \n  \nThis event is presented in partnership with Dome District Gallery. \n  \n\nEvent Details: \nWhen: Thursday\, July 20\, 2023  | 4 pm – 8 pm \nWhere: LeMay – America’s Car Museum \nContact: Education Department – education@americascarmuseum.org  |  253.683.3978
URL:https://www.americascarmuseum.org/event/drive-with-pride-clay-day-at-lemay/
LOCATION:LeMay – America’s Car Museum\, 2702 East D Street\, Tacoma\, WA\, 98421\, United States
CATEGORIES:Classes & Workshops,Education Events
ATTACH;FMTTYPE=image/jpeg:https://www.americascarmuseum.org/wp-content/uploads/Car-model-1-e1684447055961.jpg
ORGANIZER;CN="Education%20Department":MAILTO:education@americascarmuseum.org
GEO:47.2362706;-122.4304605
X-APPLE-STRUCTURED-LOCATION;VALUE=URI;X-ADDRESS=LeMay – America’s Car Museum 2702 East D Street Tacoma WA 98421 United States;X-APPLE-RADIUS=500;X-TITLE=2702 East D Street:geo:-122.4304605,47.2362706
END:VEVENT
BEGIN:VEVENT
DTSTART;TZID=America/Los_Angeles:20200229T090000
DTEND;TZID=America/Los_Angeles:20200229T160000
DTSTAMP:20230824T070104
CREATED:20190903T145336Z
LAST-MODIFIED:20200128T201027Z
UID:15710-1582966800-1582992000@www.americascarmuseum.org
SUMMARY:Full STEAM Ahead: A K-12 Educator Workshop
DESCRIPTION:THIS EVENT IS SOLD OUT!\nIf you would like to add your name to the waiting list\, please send an email to education@americascarmuseum.org with your name\, phone number and email address. \n \nEarly Bird Rate (before January 15\, 2020): $45\nRegular Rate (January 15 – February 21\, 2020): $50 \nTacoma’s Museum District brings you creative new ways to incorporate Science\, Technology\, Engineering\, Art\, and Mathematics into your classroom. Educators from America’s Car Museum\, Foss Waterway Seaport\, Museum of Glass\, Tacoma Art Museum\, Washington State History Museum\, and Slater Museum of Natural History will provide engaging\, hands-on workshops for both primary and secondary teachers\, offering lesson plans and supplementary materials for educators to utilize in their own classrooms. A STEAM lunch panel discussion will feature education and community leaders. \nRegistration includes lunch\, cross-curricular lesson plans\, parking and admission to each museum. Participation in the program qualifies for 6 clock hours. Educators hoping to receive clock hours for the event should do so through the PSESD website. \nHow are you incorporating STEAM into your classroom? Do you have questions for the STEAM panelists? If so\, share them on Facebook or Twitter with the hashtag #FullSTEAM2020. \nPlease check with your school district regarding reimbursement for professional development.
URL:https://www.americascarmuseum.org/event/fullsteam2020/
LOCATION:LeMay – America’s Car Museum\, 2702 East D Street\, Tacoma\, WA\, 98421\, United States
CATEGORIES:Classes & Workshops,Education Events
ATTACH;FMTTYPE=image/jpeg:https://www.americascarmuseum.org/wp-content/uploads/full-steam-ahead-eventimage.jpg
ORGANIZER;CN="Education%20Department":MAILTO:education@americascarmuseum.org
GEO:47.2362706;-122.4304605
X-APPLE-STRUCTURED-LOCATION;VALUE=URI;X-ADDRESS=LeMay – America’s Car Museum 2702 East D Street Tacoma WA 98421 United States;X-APPLE-RADIUS=500;X-TITLE=2702 East D Street:geo:-122.4304605,47.2362706
END:VEVENT
BEGIN:VEVENT
DTSTART;TZID=America/Los_Angeles:20200213T163000
DTEND;TZID=America/Los_Angeles:20200213T183000
DTSTAMP:20230824T070104
CREATED:20200121T231438Z
LAST-MODIFIED:20200212T192829Z
UID:16478-1581611400-1581618600@www.americascarmuseum.org
SUMMARY:How to Win the Great Raceâ€¦and Stay Married!
DESCRIPTION:RSVP NOW \nThe Great Race is so much more than just a race – it is a cross-country tour\, car show\, endurance competition\, and a “family reunion.” For over 20 years\, husband and wife team Janet and Steve Hedke have participated in the Great Race\, and have managed to keep their cool in doing so! \nJoin us for an evening with the couple as they stop at LeMay – America’s Car Museum to pick up their 2019 top ten winning vehicle\, a 1964 Studebaker Daytona\, and share their combined experience participating in the Great Race: choosing the best car\, navigating the course\, and about how you can get involved (plus a few fun stories from the road!). \nRefreshments and light bites will be available during the program. \nReception and Meet & Greet: 4:30 pm – 5:30 pm\nProgram: 5:30 pm – 6:30 pm \nCost – FREE! No Museum access. Follow the RSVP link above to save your spot to this popular event!
URL:https://www.americascarmuseum.org/event/how-to-win-the-great-raceand-stay-married/
LOCATION:LeMay – America’s Car Museum\, 2702 East D Street\, Tacoma\, WA\, 98421\, United States
CATEGORIES:Classes & Workshops,Insider Talks
ATTACH;FMTTYPE=image/jpeg:https://www.americascarmuseum.org/wp-content/uploads/greatracetalk-eventimage.jpg
ORGANIZER;CN="LeMay%20-%20America%27s%20Car%20Museum":MAILTO:RSVP@americascarmuseum.org
GEO:47.2362706;-122.4304605
X-APPLE-STRUCTURED-LOCATION;VALUE=URI;X-ADDRESS=LeMay – America’s Car Museum 2702 East D Street Tacoma WA 98421 United States;X-APPLE-RADIUS=500;X-TITLE=2702 East D Street:geo:-122.4304605,47.2362706
END:VEVENT
BEGIN:VEVENT
DTSTART;TZID=America/Los_Angeles:20191008T173000
DTEND;TZID=America/Los_Angeles:20191008T200000
DTSTAMP:20230824T070104
CREATED:20190827T130110Z
LAST-MODIFIED:20191002T180151Z
UID:15650-1570555800-1570564800@www.americascarmuseum.org
SUMMARY:Educator Night at the Museum
DESCRIPTION:Educators\, you’re invited! Join us for a fun\, FREE evening at the museum.\nEducator Night at the Museum is an exciting opportunity for area educators to relax and mingle while learning more about the resources and programs offered by prominent organizations in the Puget Sound area. Discover engaging\, innovative\, standards-based ways to bring the arts\, social studies\, science and other subjects into your classroom or to bring your students out into the community! \nHighlights include:\n“¢ Light bites and refreshments\n“¢ Private viewing of exhibitions\n“¢ Entry in raffles to win fabulous prizes\n“¢ A “one-stop-shopping” opportunity to sample the educational resources of over 30 local community\, arts\, cultural and science organizations! \nRSVP\nPlease RSVP through the ticket link above through October 7. Registration still possible at the event. \n\nEvent Details: \nWhen: Tuesday\, October 8\, 2019\, 5:30 pm – 8 pm \nWhere: LeMay – America’s Car Museum\, 2702 East D Street\, Tacoma\, WA 98421 \nParking: Please park in the Museum’s lot when you arrive and check in at the registration tables in the lobby of the Museum.
URL:https://www.americascarmuseum.org/event/educator-night-at-the-museum-2019/
LOCATION:LeMay – America’s Car Museum\, 2702 East D Street\, Tacoma\, WA\, 98421\, United States
CATEGORIES:Classes & Workshops
ATTACH;FMTTYPE=image/png:https://www.americascarmuseum.org/wp-content/uploads/EducatorNight_EventImage.png
ORGANIZER;CN="Education%20Department":MAILTO:education@americascarmuseum.org
GEO:47.2362706;-122.4304605
X-APPLE-STRUCTURED-LOCATION;VALUE=URI;X-ADDRESS=LeMay – America’s Car Museum 2702 East D Street Tacoma WA 98421 United States;X-APPLE-RADIUS=500;X-TITLE=2702 East D Street:geo:-122.4304605,47.2362706
END:VEVENT
BEGIN:VEVENT
DTSTART;TZID=America/Los_Angeles:20190209T090000
DTEND;TZID=America/Los_Angeles:20190209T160000
DTSTAMP:20230824T070104
CREATED:20151203T235619Z
LAST-MODIFIED:20190208T165135Z
UID:4134-1549702800-1549728000@www.americascarmuseum.org
SUMMARY:Full STEAM Ahead: A K-12 Educator Workshop - Rescheduled to April 27th\, 2019
DESCRIPTION:This event has been postponed due to the severe weather forecasted for our area. We apologize for any inconvenience this may cause and hope that you will join us for the workshop on April 27th.\n \nTacoma’s Museum District brings you creative new ways to incorporate Science\, Technology\, Engineering\, Art\, and Mathematics into your classroom. Educators from America’s Car Museum\, Children’s Museum of Tacoma\, Foss Waterway Seaport\, Museum of Glass\, Tacoma Art Museum and the Washington State History Museum provide engaging\, hands-on workshops for both primary and secondary teachers. \nRegistration includes 6 clock hours\, lunch\, cross-curricular lesson plans\, parking and admission to each museum. \nCost:  \nRegular Rate: $55 \nHow are you incorporating STEAM into your classroom? Do you have questions for the STEAM panelists? If so\, share them on Facebook or Twitter with the hashtag #FullSTEAM19. \nPlease check with your school district regarding reimbursement for professional development.
URL:https://www.americascarmuseum.org/event/fullsteam19/
LOCATION:America’s Car Museum
CATEGORIES:Classes & Workshops
ATTACH;FMTTYPE=image/jpeg:https://www.americascarmuseum.org/wp-content/uploads/full-steam-ahead-eventimage.jpg
ORGANIZER;CN="Education%20Department":MAILTO:education@americascarmuseum.org
GEO:47.2376393;-122.4288203
END:VEVENT
BEGIN:VEVENT
DTSTART;TZID=America/Los_Angeles:20171012T173000
DTEND;TZID=America/Los_Angeles:20171012T200000
DTSTAMP:20230824T070104
CREATED:20160902T173142Z
LAST-MODIFIED:20171003T185601Z
UID:6008-1507829400-1507838400@www.americascarmuseum.org
SUMMARY:Educator Night at the Museum
DESCRIPTION:Educators\, you’re invited to join ACM at the Museum of Glass for a fun\, FREE evening on Thursday\, October 12! \n \nEducator Night at the Museum is an exciting opportunity for area educators to relax and mingle while learning more about the resources and programs offered by prominent organizations in the Puget Sound area. Discover engaging\, innovative\, standards-based ways to bring the arts\, social studies\, science and other subjects into your classroom or to bring your students out into the community! \nFeaturing\n\nLight bites and drinks\nPrivate tours of Museum of Glass exhibitions\nEducator networking and socializing\nRaffle prizes\nLive glassblowing\nOver 30 local resources for your learners!\n\nWho?\nThis is a professional development opportunity for educators (not appropriate for children\, pre-registration for educators requested). \nRSVP\nClick here to register online\, or register by contacting Andrew Henley at ahenley@museumofglass.org or 253.284.4730.
URL:https://www.americascarmuseum.org/event/educator-night-at-the-museum-2/
LOCATION:Museum of Glass\, 1801 Dock Street\, Tacoma\, WA\, 98402\, United States
CATEGORIES:Classes & Workshops
ATTACH;FMTTYPE=image/png:https://www.americascarmuseum.org/wp-content/uploads/EducatorNight_EventImage.png
ORGANIZER;CN="Education%20Department":MAILTO:education@americascarmuseum.org
GEO:47.245401;-122.4337137
X-APPLE-STRUCTURED-LOCATION;VALUE=URI;X-ADDRESS=Museum of Glass 1801 Dock Street Tacoma WA 98402 United States;X-APPLE-RADIUS=500;X-TITLE=1801 Dock Street:geo:-122.4337137,47.245401
END:VEVENT
BEGIN:VEVENT
DTSTART;TZID=America/Los_Angeles:20170415T110000
DTEND;TZID=America/Los_Angeles:20170415T150000
DTSTAMP:20230824T070104
CREATED:20170405T170215Z
LAST-MODIFIED:20170405T183445Z
UID:8253-1492254000-1492268400@www.americascarmuseum.org
SUMMARY:Future Drivers Car Detailing Workshops with Griotâ€™s Garage
DESCRIPTION:Griot’s Garage Car Care Technicians and ACM Collections Technicians will give hands-on training to youth on how to keep automobiles clean and looking sharp. These workshops are for youth ages 10-17 and are located in the Napa Auto Care Center on level one at ACM. \n\nSession 1: 11 AM – 12 PM\nSession 2: 12:30 – 1:30 PM\nSession 3: 2 – 3 PM\n\nComplimentary with Museum admission. Space is limited\, register in advance by contacting the Education Department at education@americascarmuseum.org or 253.683.3978. Registration will be available at the door if space is available.
URL:https://www.americascarmuseum.org/event/future-drivers-car-detailing-workshops-with-griots-garage/
LOCATION:America’s Car Museum
CATEGORIES:Classes & Workshops
ATTACH;FMTTYPE=image/jpeg:https://www.americascarmuseum.org/wp-content/uploads/futuredrivers-eventimage.jpg
ORGANIZER;CN="Education%20Department":MAILTO:education@americascarmuseum.org
GEO:47.2376393;-122.4288203
END:VEVENT
BEGIN:VEVENT
DTSTART;TZID=America/Los_Angeles:20170128T100000
DTEND;TZID=America/Los_Angeles:20170128T120000
DTSTAMP:20230824T070105
CREATED:20160928T164039Z
LAST-MODIFIED:20170117T191344Z
UID:6189-1485597600-1485604800@www.americascarmuseum.org
SUMMARY:2016 Master Collector Peter Gleeson Talks About His Car Collection with The BMW Car Club of America
DESCRIPTION:Make plans to hear 2016 Master Collector Peter Gleeson speak for a final time about his car collection in person with the BMW Car Club of America on Saturday\, January 28! \nDoors will open at 9:30 am so that the presentation can start promptly at 10 am. There is a special group tour rate: $12/person! If you are already an ACM member\, then admission to the event is free. \nWhile you’ll pay at the door\, please RSVP to Steve Libby at slibby57@gmail.com to reserve the group tour rate. \nPlan to arrive early so you can grab a seat before the presentation begins.
URL:https://www.americascarmuseum.org/event/insider-talk-master-collector-exhibit/
LOCATION:America’s Car Museum
CATEGORIES:Classes & Workshops
ATTACH;FMTTYPE=image/jpeg:https://www.americascarmuseum.org/wp-content/uploads/bmwgleeson-eventimage.jpg
ORGANIZER;CN="America%27s%20Car%20Museum":MAILTO:info@americascarmuseum.org
GEO:47.2376393;-122.4288203
END:VEVENT
BEGIN:VEVENT
DTSTART;TZID=America/Los_Angeles:20160917T090000
DTEND;TZID=America/Los_Angeles:20160917T160000
DTSTAMP:20230824T070105
CREATED:20160412T193620Z
LAST-MODIFIED:20160913T160357Z
UID:5182-1474102800-1474128000@www.americascarmuseum.org
SUMMARY:Hagerty Driving Experience
DESCRIPTION:The Hagerty Driving Experience was first introduced in 2011 as a way to help build the next generation of classic car enthusiasts and keep the collector community strong. To date\, over 500 young drivers have participated in learning how to start\, operate and drive exciting manual transmission classic cars. \nIf you have a manual transmission classic car and are interested in helping us teach the next generation of collectors\, we’d love to have you join! Additionally\, if you or someone you know are between the ages of 15 and 25 and would like to participate as a student\, we encourage you to register. Registration is limited and a valid driver’s license or permit is required. For more information or to register please click here.
URL:https://www.americascarmuseum.org/event/5182/
LOCATION:America’s Car Museum
CATEGORIES:Classes & Workshops
ATTACH;FMTTYPE=image/jpeg:https://www.americascarmuseum.org/wp-content/uploads/drivingexperience-eventimage.jpg
ORGANIZER;CN="Hagerty":MAILTO:youthprograms@hagerty.com
GEO:47.2376393;-122.4288203
END:VEVENT
END:VCALENDAR