BEGIN:VCALENDAR
VERSION:2.0
PRODID:-//America&#039;s Car Museum - ECPv6.1.3//NONSGML v1.0//EN
CALSCALE:GREGORIAN
METHOD:PUBLISH
X-WR-CALNAME:America&#039;s Car Museum
X-ORIGINAL-URL:https://www.americascarmuseum.org
X-WR-CALDESC:Events for America&#039;s Car Museum
REFRESH-INTERVAL;VALUE=DURATION:PT1H
X-Robots-Tag:noindex
X-PUBLISHED-TTL:PT1H
BEGIN:VTIMEZONE
TZID:America/Los_Angeles
BEGIN:DAYLIGHT
TZOFFSETFROM:-0800
TZOFFSETTO:-0700
TZNAME:PDT
DTSTART:20160313T100000
END:DAYLIGHT
BEGIN:STANDARD
TZOFFSETFROM:-0700
TZOFFSETTO:-0800
TZNAME:PST
DTSTART:20161106T090000
END:STANDARD
END:VTIMEZONE
BEGIN:VEVENT
DTSTART;VALUE=DATE:20161020
DTEND;VALUE=DATE:20161021
DTSTAMP:20230824T041828
CREATED:20160928T172540Z
LAST-MODIFIED:20160928T172540Z
UID:6194-1476921600-1477007999@www.americascarmuseum.org
SUMMARY:An Evening with Master Collector Peter Gleeson
DESCRIPTION:Gold Key members and above are invited to an evening with Master Collector Peter Gleeson. Join us for drinks\, hors d’oeuvres and a private tour of his collection in the Master Collectors exhibit at America’s Car Museum. \nRSVP by October 14.
URL:https://www.americascarmuseum.org/event/an-evening-with-master-collector-peter-gleeson/
LOCATION:America’s Car Museum
CATEGORIES:Club Auto
ATTACH;FMTTYPE=image/jpeg:https://www.americascarmuseum.org/wp-content/uploads/eveningwithMC-eventimage.jpg
ORGANIZER;CN="Club%20Auto%20Coordinator":MAILTO:kristen.wells@americasautomotivetrust.org
GEO:47.2376393;-122.4288203
END:VEVENT
BEGIN:VEVENT
DTSTART;TZID=America/Los_Angeles:20160910T080000
DTEND;TZID=America/Los_Angeles:20160910T150000
DTSTAMP:20230824T041828
CREATED:20160729T201517Z
LAST-MODIFIED:20160908T184704Z
UID:5877-1473494400-1473519600@www.americascarmuseum.org
SUMMARY:Club Auto Friends n' Fenders Tour
DESCRIPTION:REGISTER NOW \nExplore some of Western Washington’s most scenic roads during Club Auto’s first annual Friends n’ Fenders tour on Saturday\, September 10!  Sport and classic cars are welcome to participate. \nYour entry includes: \n\nParticipation for one car\nCoffee & pastries on the Anderson Plaza at ACM\nLunch & tour at Griot’s Garage\nA commemorative Club Auto tour hat\nComplimentary food & drink voucher and admission to the Summer Ender Fender Bender at America’s Car Museum on September 10\n\nCan’t make it on the tour? Join us for lunch\, product demo and a tour at Griot’s Garage at 12 pm. We invite you to follow the tour back to ACM for the opening of the Summer Ender Fender Bender. \nPlease note\, all drivers must be 18 years or older. Walk up participants are welcome day of.
URL:https://www.americascarmuseum.org/event/club-auto-friends-n-fenders-tour/
CATEGORIES:Club Auto
ATTACH;FMTTYPE=image/jpeg:https://www.americascarmuseum.org/wp-content/uploads/friends-fenders-eventimage.jpg
ORGANIZER;CN="Club%20Auto%20Coordinator":MAILTO:kristen.wells@americasautomotivetrust.org
END:VEVENT
BEGIN:VEVENT
DTSTART;VALUE=DATE:20160716
DTEND;VALUE=DATE:20160717
DTSTAMP:20230824T041828
CREATED:20160525T201638Z
LAST-MODIFIED:20160701T155154Z
UID:5412-1468627200-1468713599@www.americascarmuseum.org
SUMMARY:Club Auto - Day Drive to Snoqualmie Falls
DESCRIPTION:Join fellow Club Auto members and above for a scenic drive to Snoqualmie Falls followed by a non-hosted lunch at Salish Lodge. RSVP to Kristen. \nQuestions? Contact RSVP@americascarmuseum.org. Reservations required. Club Auto members and above are invited to these events. 
URL:https://www.americascarmuseum.org/event/club-auto-day-drive-to-snoqualmie-falls/
LOCATION:America’s Car Museum
CATEGORIES:Club Auto
ATTACH;FMTTYPE=image/jpeg:https://www.americascarmuseum.org/wp-content/uploads/snoqfalls-eventimage.jpg
ORGANIZER;CN="Club%20Auto%20Coordinator":MAILTO:kristen.wells@americasautomotivetrust.org
GEO:47.2376393;-122.4288203
END:VEVENT
BEGIN:VEVENT
DTSTART;TZID=America/Los_Angeles:20160714T170000
DTEND;TZID=America/Los_Angeles:20160714T200000
DTSTAMP:20230824T041828
CREATED:20160711T223911Z
LAST-MODIFIED:20160711T223916Z
UID:5717-1468515600-1468526400@www.americascarmuseum.org
SUMMARY:Club Auto Open House
DESCRIPTION:Join us during the Cruise-In at ACM in Club Auto to see what it’s all about!
URL:https://www.americascarmuseum.org/event/club-auto-open-house/
LOCATION:America’s Car Museum
CATEGORIES:Club Auto
ATTACH;FMTTYPE=image/jpeg:https://www.americascarmuseum.org/wp-content/uploads/clubautohappyhour-eventimage.jpg
ORGANIZER;CN="Club%20Auto%20Coordinator":MAILTO:kristen.wells@americasautomotivetrust.org
GEO:47.2376393;-122.4288203
END:VEVENT
BEGIN:VEVENT
DTSTART;VALUE=DATE:20160521
DTEND;VALUE=DATE:20160522
DTSTAMP:20230824T041828
CREATED:20160411T230622Z
LAST-MODIFIED:20160520T185844Z
UID:5170-1463788800-1463875199@www.americascarmuseum.org
SUMMARY:Club Auto Cruise-In @ RTC (Redmond Town Center)
DESCRIPTION:Club Auto members let’s rev it up!  It’s British day at the Redmond Town Center.  Join your fellow Club Auto members for a drive to Redmond and participate in an amazing car show! \nMeet at Wild About Cars Garage in Kirkland at 8:30am*\n11200 Kirkland Way\, Kirkland\, WA 98033\n425.246.5222 \n*Club Auto members and above are invited. For more information & to RSVP\,  please contact Kristen –Kristen.wells@americascarmuseum.org
URL:https://www.americascarmuseum.org/event/club-auto-cruise-in-rtc-redmond-town-center/
LOCATION:America’s Car Museum
CATEGORIES:Club Auto
ATTACH;FMTTYPE=image/jpeg:https://www.americascarmuseum.org/wp-content/uploads/CA_British_EventImage.jpg
ORGANIZER;CN="Club%20Auto%20Coordinator":MAILTO:kristen.wells@americasautomotivetrust.org
GEO:47.2376393;-122.4288203
END:VEVENT
BEGIN:VEVENT
DTSTART;VALUE=DATE:20160513
DTEND;VALUE=DATE:20160514
DTSTAMP:20230824T041828
CREATED:20160427T213341Z
LAST-MODIFIED:20160505T220042Z
UID:5262-1463097600-1463183999@www.americascarmuseum.org
SUMMARY:Club Auto - The Hageman Firehouse Tour
DESCRIPTION:The Hageman Firehouse Tour\nMeet Master Collector Peter Hageman and see his private car collection. \n$25 \nNo Host Lunch | Redhook Brewery \nClub Auto members and above are invited. RSVP to Kristen at 253.683.3955 or kristen.wells@americascarmuseum.org
URL:https://www.americascarmuseum.org/event/club-auto-the-hageman-firehouse-tour/
LOCATION:America’s Car Museum
CATEGORIES:Club Auto
ATTACH;FMTTYPE=image/png:https://www.americascarmuseum.org/wp-content/uploads/firehouse-eventimage.png
ORGANIZER;CN="Club%20Auto%20Coordinator":MAILTO:kristen.wells@americasautomotivetrust.org
GEO:47.2376393;-122.4288203
END:VEVENT
BEGIN:VEVENT
DTSTART;VALUE=DATE:20160416
DTEND;VALUE=DATE:20160417
DTSTAMP:20230824T041828
CREATED:20160227T005322Z
LAST-MODIFIED:20160409T000916Z
UID:4841-1460764800-1460851199@www.americascarmuseum.org
SUMMARY:Day Drive to Mt. Rainier
DESCRIPTION:Come join your fellow Club Auto members for a beautiful drive to Mount Rainier.  Participants will be responsible for purchasing their own park admission & lunch. \nThis is a Club Auto members-only event.  For more information & to RSVP\,  please contact Kristen – Kristen.wells@americascarmuseum.org
URL:https://www.americascarmuseum.org/event/day-drive-to-mt-rainier/
LOCATION:America’s Car Museum
CATEGORIES:Club Auto
ATTACH;FMTTYPE=image/jpeg:https://www.americascarmuseum.org/wp-content/uploads/eventimage-mtrainier.jpg
ORGANIZER;CN="Club%20Auto%20Coordinator":MAILTO:kristen.wells@americasautomotivetrust.org
GEO:47.2376393;-122.4288203
END:VEVENT
BEGIN:VEVENT
DTSTART;TZID=America/Los_Angeles:20160330T173000
DTEND;TZID=America/Los_Angeles:20160330T190000
DTSTAMP:20230824T041828
CREATED:20160129T214451Z
LAST-MODIFIED:20160129T220816Z
UID:4664-1459359000-1459364400@www.americascarmuseum.org
SUMMARY:Member Meeting - Club Auto Tacoma
DESCRIPTION:This is a Club Auto members-only event.  \nCome learn about the exciting calendar of events we have planned for 2016 and have an opportunity to meet your other fellow Club Auto members. Snacks and Beverages provided. \nPlease RSVP to Kristen Wells by March 23rd if you’re able to attend. rsvp@americascarmuseum.org | 253.683.3955
URL:https://www.americascarmuseum.org/event/member-meeting-club-auto-tacoma-chapter-2/
LOCATION:America’s Car Museum
CATEGORIES:Club Auto
ATTACH;FMTTYPE=image/jpeg:https://www.americascarmuseum.org/wp-content/uploads/clubautohappyhour-eventimage.jpg
ORGANIZER;CN="Club%20Auto%20Coordinator":MAILTO:kristen.wells@americasautomotivetrust.org
GEO:47.2376393;-122.4288203
END:VEVENT
END:VCALENDAR