BEGIN:VCALENDAR
VERSION:2.0
PRODID:-//America&#039;s Car Museum - ECPv6.1.3//NONSGML v1.0//EN
CALSCALE:GREGORIAN
METHOD:PUBLISH
X-ORIGINAL-URL:https://www.americascarmuseum.org
X-WR-CALDESC:Events for America&#039;s Car Museum
REFRESH-INTERVAL;VALUE=DURATION:PT1H
X-Robots-Tag:noindex
X-PUBLISHED-TTL:PT1H
BEGIN:VTIMEZONE
TZID:America/Los_Angeles
BEGIN:DAYLIGHT
TZOFFSETFROM:-0800
TZOFFSETTO:-0700
TZNAME:PDT
DTSTART:20230312T100000
END:DAYLIGHT
BEGIN:STANDARD
TZOFFSETFROM:-0700
TZOFFSETTO:-0800
TZNAME:PST
DTSTART:20231105T090000
END:STANDARD
END:VTIMEZONE
BEGIN:VEVENT
DTSTART;TZID=America/Los_Angeles:20230729T183000
DTEND;TZID=America/Los_Angeles:20230729T233000
DTSTAMP:20230824T054740
CREATED:20230501T181910Z
LAST-MODIFIED:20230720T223926Z
UID:20966-1690655400-1690673400@www.americascarmuseum.org
SUMMARY:MOTORS & MOVIES AT ACM
DESCRIPTION:JOIN US FOR OUR MOTORS & MOVIES SERIES ON OUR HAUB FAMILY FIELD – WHERE THE CARS ARE STARS\nGrab dinner at our picnic concessions and watch in your car or from a blanket\, either option will provide you a great view of the 40-foot tall outdoor screen. \nMotors & Movies is FREE and open to all ages\, no RSVP required\, first come first served. \nGates for parking 6:30 pm\, Movie Start Time: Sunset \n\nFEATURE FILM: Super Mario Bros\n\n\n\n\n\n\nEvent Details:\n\n\n\n\n\n\n\n\n\n\nGates Open at 6:00 pm for field fun and dinner before the show\nFood trucks will be on-site; no barbecues allowed\nFirst come\, first served parking\nYou are welcome to bring lawn chairs and yard games\nDesignated picnic area in front of screen for those who bike or walk – no vehicle necessary\nMovie audio is projected via PA speakers and radio station simulcast\nNo reservations or fees required\nDonations gratefully accepted\nWeather dependent – movie may be cancelled if necessary due to heat\, wind\, or rain\n\nPre-Show Paint Party with Lanae’s Lounge\n \nJoin us for a canvas paint party! Get a chance to paint Mario at the drive-in movie before the show starts. All ages welcomed. \nJuly 29th 7pm-8pm \n$20 Per Person \nLimited spots available \nCLICK HERE TO RESERVE YOUR SPOT IN OUR CANVAS PAINT PARTY!
URL:https://www.americascarmuseum.org/event/motors-movies-at-acm-2023-07-29/
LOCATION:America’s Car Museum
CATEGORIES:Drive-In Movies
ATTACH;FMTTYPE=image/jpeg:https://www.americascarmuseum.org/wp-content/uploads/0068882-FacebookImage.jpeg
GEO:47.2376393;-122.4288203
END:VEVENT
BEGIN:VEVENT
DTSTART;TZID=America/Los_Angeles:20230818T183000
DTEND;TZID=America/Los_Angeles:20230818T233000
DTSTAMP:20230824T054740
CREATED:20230501T181910Z
LAST-MODIFIED:20230615T183146Z
UID:20967-1692383400-1692401400@www.americascarmuseum.org
SUMMARY:MOTORS & MOVIES AT ACM
DESCRIPTION:JOIN US FOR OUR MOTORS & MOVIES SERIES ON OUR HAUB FAMILY FIELD – WHERE THE CARS ARE STARS\nGrab dinner at our picnic concessions and watch in your car or from a blanket\, either option will provide you a great view of the 40-foot tall outdoor screen. \nMotors & Movies is FREE and open to all ages\, no RSVP required\, first come first served. \nGates for parking 6:30 pm\, Movie Start Time: Sunset \n\nFEATURE FILM: Cloud With A Chance of Meatballs\n\n\n\n\n\n\nEvent Details:\n\n\n\n\n\n\n\n\n\n\nGates Open at 6:30 pm for field fun and dinner before the show\nFood trucks will be on-site; no barbecues allowed\nFirst come\, first served parking\nYou are welcome to bring lawn chairs and yard games\nDesignated picnic area in front of screen for those who bike or walk – no vehicle necessary\nMovie audio is projected via PA speakers and radio station simulcast\nNo reservations or fees required\nDonations gratefully accepted\nWeather dependent – movie may be cancelled if necessary due to heat\, wind\, or rain
URL:https://www.americascarmuseum.org/event/motors-movies-at-acm-2023-08-18/
LOCATION:America’s Car Museum
CATEGORIES:Drive-In Movies
ATTACH;FMTTYPE=image/jpeg:https://www.americascarmuseum.org/wp-content/uploads/MV5BMTg0MjAwNDI5MV5BMl5BanBnXkFtZTcwODkyMzg2Mg@@._V1_.jpg
GEO:47.2376393;-122.4288203
END:VEVENT
BEGIN:VEVENT
DTSTART;TZID=America/Los_Angeles:20230901T183000
DTEND;TZID=America/Los_Angeles:20230901T233000
DTSTAMP:20230824T054740
CREATED:20230501T181910Z
LAST-MODIFIED:20230615T183231Z
UID:20968-1693593000-1693611000@www.americascarmuseum.org
SUMMARY:MOTORS & MOVIES AT ACM
DESCRIPTION:JOIN US FOR OUR MOTORS & MOVIES SERIES ON OUR HAUB FAMILY FIELD – WHERE THE CARS ARE STARS\nGrab dinner at our picnic concessions and watch in your car or from a blanket\, either option will provide you a great view of the 40-foot tall outdoor screen. \nMotors & Movies is FREE and open to all ages\, no RSVP required\, first come first served. \nGates for parking 6:30 pm\, Movie Start Time: Sunset \n\nFEATURE FILM: Black Panther: Wakanda Forever\n\n\n\n\n\n\nEvent Details:\n\n\n\n\n\n\n\n\n\n\nGates Open at 6:30 pm for field fun and dinner before the show\nFood trucks will be on-site; no barbecues allowed\nFirst come\, first served parking\nYou are welcome to bring lawn chairs and yard games\nDesignated picnic area in front of screen for those who bike or walk – no vehicle necessary\nMovie audio is projected via PA speakers and radio station simulcast\nNo reservations or fees required\nDonations gratefully accepted\nWeather dependent – movie may be cancelled if necessary due to heat\, wind\, or rain
URL:https://www.americascarmuseum.org/event/motors-movies-at-acm-2023-09-01/
LOCATION:America’s Car Museum
CATEGORIES:Drive-In Movies
ATTACH;FMTTYPE=image/jpeg:https://www.americascarmuseum.org/wp-content/uploads/MV5BNTM4NjIxNmEtYWE5NS00NDczLTkyNWQtYThhNmQyZGQzMjM0XkEyXkFqcGdeQXVyODk4OTc3MTY@._V1_.jpg
GEO:47.2376393;-122.4288203
END:VEVENT
END:VCALENDAR