BEGIN:VCALENDAR
VERSION:2.0
PRODID:-//America&#039;s Car Museum - ECPv6.1.3//NONSGML v1.0//EN
CALSCALE:GREGORIAN
METHOD:PUBLISH
X-ORIGINAL-URL:https://www.americascarmuseum.org
X-WR-CALDESC:Events for America&#039;s Car Museum
REFRESH-INTERVAL;VALUE=DURATION:PT1H
X-Robots-Tag:noindex
X-PUBLISHED-TTL:PT1H
BEGIN:VTIMEZONE
TZID:America/Los_Angeles
BEGIN:DAYLIGHT
TZOFFSETFROM:-0800
TZOFFSETTO:-0700
TZNAME:PDT
DTSTART:20230312T100000
END:DAYLIGHT
BEGIN:STANDARD
TZOFFSETFROM:-0700
TZOFFSETTO:-0800
TZNAME:PST
DTSTART:20231105T090000
END:STANDARD
END:VTIMEZONE
BEGIN:VEVENT
DTSTART;TZID=America/Los_Angeles:20230603T113000
DTEND;TZID=America/Los_Angeles:20230603T123000
DTSTAMP:20230824T053156
CREATED:20230503T180738Z
LAST-MODIFIED:20230602T201943Z
UID:21017-1685791800-1685795400@www.americascarmuseum.org
SUMMARY:If Cars Could Talk - 24 Hours of Le Mans Centennial
DESCRIPTION:Join us on June 3rd for a panel discussion celebrating the centennial of the 24 Hours of Le Mans.  This year’s events in France will celebrate 100 years since the first 24 Hour race\, held in May\, 1923.  The panel will present an overview of the history of the race\, review some of the great marques that have participated and the historical significance of the world’s most famous sports car competition.  Join Le Mans driver Dominic Dobson\, racing historian and author\, János Wimpffen and Porsche Club Historian Jay Gillotti to kick off this year’s Le Mans week. \nThis talk will take place both in the Museum and on Zoom to provide access to all interested! \nThe If Cars Could Talk lecture series is FREE for ACM Members and is also included with Museum admission. Bring a lunch to enjoy\, light refreshments provided.
URL:https://www.americascarmuseum.org/event/if-cars-could-talk-24-hours-of-le-mans-centennial/
LOCATION:LeMay – America’s Car Museum\, 2702 East D Street\, Tacoma\, WA\, 98421\, United States
CATEGORIES:Education Events,If Cars Could Talk
ATTACH;FMTTYPE=image/jpeg:https://www.americascarmuseum.org/wp-content/uploads/Le-Mans-66-8.jpeg
ORGANIZER;CN="Education%20Department":MAILTO:education@americascarmuseum.org
GEO:47.2362706;-122.4304605
X-APPLE-STRUCTURED-LOCATION;VALUE=URI;X-ADDRESS=LeMay – America’s Car Museum 2702 East D Street Tacoma WA 98421 United States;X-APPLE-RADIUS=500;X-TITLE=2702 East D Street:geo:-122.4304605,47.2362706
END:VEVENT
END:VCALENDAR