BEGIN:VCALENDAR
VERSION:2.0
PRODID:-//America&#039;s Car Museum - ECPv6.1.3//NONSGML v1.0//EN
CALSCALE:GREGORIAN
METHOD:PUBLISH
X-ORIGINAL-URL:https://www.americascarmuseum.org
X-WR-CALDESC:Events for America&#039;s Car Museum
REFRESH-INTERVAL;VALUE=DURATION:PT1H
X-Robots-Tag:noindex
X-PUBLISHED-TTL:PT1H
BEGIN:VTIMEZONE
TZID:America/Los_Angeles
BEGIN:DAYLIGHT
TZOFFSETFROM:-0800
TZOFFSETTO:-0700
TZNAME:PDT
DTSTART:20230312T100000
END:DAYLIGHT
BEGIN:STANDARD
TZOFFSETFROM:-0700
TZOFFSETTO:-0800
TZNAME:PST
DTSTART:20231105T090000
END:STANDARD
END:VTIMEZONE
BEGIN:VEVENT
DTSTART;TZID=America/Los_Angeles:20230624T110000
DTEND;TZID=America/Los_Angeles:20230624T120000
DTSTAMP:20230824T053148
CREATED:20230120T203535Z
LAST-MODIFIED:20230623T190256Z
UID:20621-1687604400-1687608000@www.americascarmuseum.org
SUMMARY:If Porsches Could Talk -- Porsche History 101
DESCRIPTION:To complement the Porsche 75 exhibit at America’s Car Museum\, Porsche Club Historian\, Jay Gillotti\, will offer a basic overview of Porsche history. \nPre-registration is required to participate in this event via Zoom. \n\nJoin Porsche Club Historian\, Jay Gillotti\, and the LeMay—ACM Education Department for a special If Cars Could Talk series—If Porsches Could Talk. These Saturday talks will take place both in the Museum and on Zoom to provide access to all interested! \nThe If Cars Could Talk lecture series is FREE for ACM Members and is also included with Museum admission. Bring a lunch to enjoy\, light refreshments provided.
URL:https://www.americascarmuseum.org/event/ipct_porsche101/
LOCATION:LeMay – America’s Car Museum\, 2702 East D Street\, Tacoma\, WA\, 98421\, United States
CATEGORIES:Education Events,If Cars Could Talk
ATTACH;FMTTYPE=image/jpeg:https://www.americascarmuseum.org/wp-content/uploads/Porsche-Exhibit-Opening-banner-3.jpg
ORGANIZER;CN="Education%20Department":MAILTO:education@americascarmuseum.org
GEO:47.2362706;-122.4304605
X-APPLE-STRUCTURED-LOCATION;VALUE=URI;X-ADDRESS=LeMay – America’s Car Museum 2702 East D Street Tacoma WA 98421 United States;X-APPLE-RADIUS=500;X-TITLE=2702 East D Street:geo:-122.4304605,47.2362706
END:VEVENT
END:VCALENDAR