BEGIN:VCALENDAR
VERSION:2.0
PRODID:-//America&#039;s Car Museum - ECPv6.1.3//NONSGML v1.0//EN
CALSCALE:GREGORIAN
METHOD:PUBLISH
X-WR-CALNAME:America&#039;s Car Museum
X-ORIGINAL-URL:https://www.americascarmuseum.org
X-WR-CALDESC:Events for America&#039;s Car Museum
REFRESH-INTERVAL;VALUE=DURATION:PT1H
X-Robots-Tag:noindex
X-PUBLISHED-TTL:PT1H
BEGIN:VTIMEZONE
TZID:America/Los_Angeles
BEGIN:DAYLIGHT
TZOFFSETFROM:-0800
TZOFFSETTO:-0700
TZNAME:PDT
DTSTART:20230312T100000
END:DAYLIGHT
BEGIN:STANDARD
TZOFFSETFROM:-0700
TZOFFSETTO:-0800
TZNAME:PST
DTSTART:20231105T090000
END:STANDARD
END:VTIMEZONE
BEGIN:VEVENT
DTSTART;TZID=America/Los_Angeles:20230801T100000
DTEND;TZID=America/Los_Angeles:20230801T110000
DTSTAMP:20230824T053124
CREATED:20230503T173624Z
LAST-MODIFIED:20230613T192942Z
UID:21127-1690884000-1690887600@www.americascarmuseum.org
SUMMARY:Storytime for Little Spark Plugs
DESCRIPTION:ACM welcomes toddlers and their caregivers for our brand new\, in-person Storytime for Little Spark Plugs! Join us to meet new friends\, enjoy interactive stories and action songs\, and play in ACM’s hands-on Family Zone. \nREGISTER HERE\n \n  \n \n  \nStorytime for Little Spark Plugs is FREE a free program offered through the generous funding of Tacoma Creates.
URL:https://www.americascarmuseum.org/event/storytime-for-little-spark-plugs/2023-08-01/
LOCATION:LeMay – America’s Car Museum\, 2702 East D Street\, Tacoma\, WA\, 98421\, United States
CATEGORIES:Education Events,Family Events
ATTACH;FMTTYPE=image/png:https://www.americascarmuseum.org/wp-content/uploads/Storytime-for-Little-Spark-Plugs-Logo.png
ORGANIZER;CN="Education%20Department":MAILTO:education@americascarmuseum.org
GEO:47.2362706;-122.4304605
X-APPLE-STRUCTURED-LOCATION;VALUE=URI;X-ADDRESS=LeMay – America’s Car Museum 2702 East D Street Tacoma WA 98421 United States;X-APPLE-RADIUS=500;X-TITLE=2702 East D Street:geo:-122.4304605,47.2362706
END:VEVENT
BEGIN:VEVENT
DTSTART;TZID=America/Los_Angeles:20230815T100000
DTEND;TZID=America/Los_Angeles:20230815T110000
DTSTAMP:20230824T053124
CREATED:20230503T173624Z
LAST-MODIFIED:20230613T192944Z
UID:21128-1692093600-1692097200@www.americascarmuseum.org
SUMMARY:Storytime for Little Spark Plugs
DESCRIPTION:ACM welcomes toddlers and their caregivers for our brand new\, in-person Storytime for Little Spark Plugs! Join us to meet new friends\, enjoy interactive stories and action songs\, and play in ACM’s hands-on Family Zone. \nREGISTER HERE\n \n  \n \n  \nStorytime for Little Spark Plugs is FREE a free program offered through the generous funding of Tacoma Creates.
URL:https://www.americascarmuseum.org/event/storytime-for-little-spark-plugs/2023-08-15/
LOCATION:LeMay – America’s Car Museum\, 2702 East D Street\, Tacoma\, WA\, 98421\, United States
CATEGORIES:Education Events,Family Events
ATTACH;FMTTYPE=image/png:https://www.americascarmuseum.org/wp-content/uploads/Storytime-for-Little-Spark-Plugs-Logo.png
ORGANIZER;CN="Education%20Department":MAILTO:education@americascarmuseum.org
GEO:47.2362706;-122.4304605
X-APPLE-STRUCTURED-LOCATION;VALUE=URI;X-ADDRESS=LeMay – America’s Car Museum 2702 East D Street Tacoma WA 98421 United States;X-APPLE-RADIUS=500;X-TITLE=2702 East D Street:geo:-122.4304605,47.2362706
END:VEVENT
BEGIN:VEVENT
DTSTART;TZID=America/Los_Angeles:20231114T180000
DTEND;TZID=America/Los_Angeles:20231114T190000
DTSTAMP:20230824T053124
CREATED:20230815T152837Z
LAST-MODIFIED:20230815T153646Z
UID:21299-1699984800-1699988400@www.americascarmuseum.org
SUMMARY:ACM Virtual Book Club - Go Like Hell: Ford\, Ferrari\, and Their Battle for Speed and Glory at Le Mans
DESCRIPTION:We are thrilled to invite you to the next meeting of our ACM Book Club! This quarter\, we’ll be driving into the exhilarating world of motorsport history with New York Times bestselling author A.J. Baime’s gripping book\, “Go Like Hell: Ford\, Ferrari\, and Their Battle for Speed and Glory at Le Mans.” Baime’s novel has been critically acclaimed\, receiving the Ken Purdy Award for best writing in the automotive space by the International Motor Press Association\, as well as being adapted into the 2019 hit film Ford v. Ferrari. \nPrepare to be transported to the golden era of racing\, as A.J. Baime’s masterful storytelling takes us back to the 1960s when the legendary rivalry between Ford and Ferrari ignited the tracks of Le Mans. The pages of “Go Like Hell” are filled with high-stakes drama\, fierce competition\, and the indomitable spirit of innovation. \nGuests are encouraged to engage in a lively and thoughtful conversation with the author during our virtual discussion. The discussion and Q & A will take place on Zoom\, November 14th at 6pm. \nRESERVE YOUR SPOT TODAY! \nThis book is available on Kindle and print.
URL:https://www.americascarmuseum.org/event/acm-virtual-book-club-go-like-hell-ford-ferrari-and-their-battle-for-speed-and-glory-at-le-mans/
CATEGORIES:Education Events
ATTACH;FMTTYPE=image/jpeg:https://www.americascarmuseum.org/wp-content/uploads/golikehell.jpeg
ORGANIZER;CN="Education%20Department":MAILTO:education@americascarmuseum.org
END:VEVENT
END:VCALENDAR