BEGIN:VCALENDAR
VERSION:2.0
PRODID:-//America&#039;s Car Museum - ECPv6.1.3//NONSGML v1.0//EN
CALSCALE:GREGORIAN
METHOD:PUBLISH
X-WR-CALNAME:America&#039;s Car Museum
X-ORIGINAL-URL:https://www.americascarmuseum.org
X-WR-CALDESC:Events for America&#039;s Car Museum
REFRESH-INTERVAL;VALUE=DURATION:PT1H
X-Robots-Tag:noindex
X-PUBLISHED-TTL:PT1H
BEGIN:VTIMEZONE
TZID:America/Los_Angeles
BEGIN:DAYLIGHT
TZOFFSETFROM:-0800
TZOFFSETTO:-0700
TZNAME:PDT
DTSTART:20160313T100000
END:DAYLIGHT
BEGIN:STANDARD
TZOFFSETFROM:-0700
TZOFFSETTO:-0800
TZNAME:PST
DTSTART:20161106T090000
END:STANDARD
END:VTIMEZONE
BEGIN:VEVENT
DTSTART;VALUE=DATE:20161105
DTEND;VALUE=DATE:20161106
DTSTAMP:20230824T041830
CREATED:20160928T193233Z
LAST-MODIFIED:20161104T164645Z
UID:6202-1478304000-1478390399@www.americascarmuseum.org
SUMMARY:Tools of the Trade - Powering the Working Class Exhibit Opens to Public
DESCRIPTION:The Tools of the Trade – Powering the Working Class will tell the story of the steadfast work vehicles that formed the backbone of American commerce in the first half of the 20th century. Rough\, rugged and no-nonsense\, the trucks and specialty vehicles on display will provide a fascinating look at the culture of the time as told through the lense of these unique vehicles.
URL:https://www.americascarmuseum.org/event/tools-of-the-trade-powering-the-working-class-exhibit-opens-to-public/
CATEGORIES:Exhibit Events
ATTACH;FMTTYPE=image/jpeg:https://www.americascarmuseum.org/wp-content/uploads/TOTT-eventimage.jpg
END:VEVENT
BEGIN:VEVENT
DTSTART;TZID=America/Los_Angeles:20161104T180000
DTEND;TZID=America/Los_Angeles:20161104T200000
DTSTAMP:20230824T041830
CREATED:20160325T170926Z
LAST-MODIFIED:20161104T164604Z
UID:5035-1478282400-1478289600@www.americascarmuseum.org
SUMMARY:Tools of the Trade - Powering the Working Class Exhibit Exclusive Member Preview
DESCRIPTION:As a benefit of membership\, Bronze Key Drivers and above are invited to an exclusive member preview of the Tools of the Trade – Powering the Working Class exhibit. Enjoy light appetizers and beverages\, the unveiling of the “four-wheel work horses” and a peek into the history of each vehicle. The first 50 members will receive a commemorative exhibit poster. Parking is complimentary. Silver Key members are invited to bring two guests to the exhibit preview. Upgrade your membership for this additional benefit. RSVP by October 31 at rsvp@americascarmuseum.org or 253.779.8490. \nAbout the Tools of the Trade – Powering the Working Class exhibit:\nThe Tools of the Trade – Powering the Working Class will tell the story of the steadfast work vehicles that formed the backbone of American commerce in the first half of the 20th century. Rough\, rugged and no-nonsense\, the trucks and specialty vehicles on display will provide a fascinating look at the culture of the time as told through the lense of these unique vehicles.
URL:https://www.americascarmuseum.org/event/member-preview/
LOCATION:America’s Car Museum
CATEGORIES:Exhibit Events
ATTACH;FMTTYPE=image/jpeg:https://www.americascarmuseum.org/wp-content/uploads/TOTT-eventimage.jpg
ORGANIZER;CN="America%27s%20Car%20Museum":MAILTO:info@americascarmuseum.org
GEO:47.2376393;-122.4288203
END:VEVENT
BEGIN:VEVENT
DTSTART;VALUE=DATE:20160910
DTEND;VALUE=DATE:20160911
DTSTAMP:20230824T041830
CREATED:20160825T181829Z
LAST-MODIFIED:20160908T161546Z
UID:5973-1473465600-1473551999@www.americascarmuseum.org
SUMMARY:Master Collector Exhibit Preview
DESCRIPTION:All ACM members are invited to mingle with Master Collector Peter Gleeson\, and ACM Curator of Exhibitry Scot Keller during the preview of the Museum’s new Master Collector exhibit. The ï¬rst 150 members will receive a commemorative exhibit poster. After the opening\, explore the Museum until 8 pm. Not an ACM member? Join today. \nSilver Key members are invited to bring two guests to the exhibit preview. Upgrade your membership for this additional benefit. Not an ACM member? Join today. \nBENDER BUCKS \nBronze Key and above members will also receive “Bender Bucks” to spend at the food trucks and/or the beer garden at the Summer Ender Fender Bender. Pick up your “Bender Bucks” at the ACM membership tent on the Haub Family Field or at Guest Services inside the Museum. Upgrade your membership for this additional benefit. Not an ACM member? Join today.
URL:https://www.americascarmuseum.org/event/master-collector-exhibit-opening/
LOCATION:America’s Car Museum
CATEGORIES:Exhibit Events
ATTACH;FMTTYPE=image/jpeg:https://www.americascarmuseum.org/wp-content/uploads/SEFB_FeatureImage-1.jpg
ORGANIZER;CN="LeMay%20-%20America%27s%20Car%20Museum":MAILTO:RSVP@americascarmuseum.org
GEO:47.2376393;-122.4288203
END:VEVENT
BEGIN:VEVENT
DTSTART;TZID=America/Los_Angeles:20160507T110000
DTEND;TZID=America/Los_Angeles:20160507T120000
DTSTAMP:20230824T041830
CREATED:20160325T171609Z
LAST-MODIFIED:20160502T192111Z
UID:5040-1462618800-1462622400@www.americascarmuseum.org
SUMMARY:BMW Propelling a Century of Innovation - Insider Talk
DESCRIPTION:Come hear ACM’s Curator of Exhibitry Scot Keller talk about the inspiration for the new exhibit and the special cars selected for display. Keller will be joined by BMW collector Peter Gleeson\, who loaned four of his extraordinary cars for the exhibit including the only privately owned BMW Art Car. Peter Gleeson\, a specialist car & art collector\, has assembled one of the most superb BMW Collections in the world. \nPeter Gleeson’s privately owned BMW Art Car at the 2014 Pacific Northwest Concours d’Elegance.
URL:https://www.americascarmuseum.org/event/bmw-propelling-a-century-of-innovation-insider-talk/
LOCATION:America’s Car Museum
CATEGORIES:Exhibit Events
ATTACH;FMTTYPE=image/jpeg:https://www.americascarmuseum.org/wp-content/uploads/bmwtalk-eventimage.jpg
ORGANIZER;CN="America%27s%20Car%20Museum":MAILTO:info@americascarmuseum.org
GEO:47.2376393;-122.4288203
END:VEVENT
BEGIN:VEVENT
DTSTART;TZID=America/Los_Angeles:20160507T090000
DTEND;TZID=America/Los_Angeles:20160507T100000
DTSTAMP:20230824T041830
CREATED:20160325T171211Z
LAST-MODIFIED:20160325T171255Z
UID:5038-1462611600-1462615200@www.americascarmuseum.org
SUMMARY:BMW Propelling a Century of Innovation - Member Early Access
DESCRIPTION:Not able to make it to the Exclusive Member Preview? All ACM members are invited to view the BMW exhibit before it opens to the public. Parking is complimentary for members until 10 am.
URL:https://www.americascarmuseum.org/event/bmw-propelling-a-century-of-innovation-member-early-access/
LOCATION:America’s Car Museum
CATEGORIES:Exhibit Events
ATTACH;FMTTYPE=image/jpeg:https://www.americascarmuseum.org/wp-content/uploads/bmwmemberpreview-eventimage.jpg
ORGANIZER;CN="America%27s%20Car%20Museum":MAILTO:info@americascarmuseum.org
GEO:47.2376393;-122.4288203
END:VEVENT
BEGIN:VEVENT
DTSTART;VALUE=DATE:20160507
DTEND;VALUE=DATE:20160508
DTSTAMP:20230824T041830
CREATED:20160325T182526Z
LAST-MODIFIED:20160325T182526Z
UID:5043-1462579200-1462665599@www.americascarmuseum.org
SUMMARY:BMW Propelling a Century of Innovation - Exhibit Open to Public
DESCRIPTION:ACM’s exhibit BMW – Propelling a Century of Innovation celebrates the centennial of this paramount company and its designs and opens to the public on Saturday\, May 7.
URL:https://www.americascarmuseum.org/event/bmw-propelling-a-century-of-innovation-exhibit-open/
LOCATION:America’s Car Museum
CATEGORIES:Exhibit Events
ATTACH;FMTTYPE=image/jpeg:https://www.americascarmuseum.org/wp-content/uploads/BMW_EventImage.jpg
ORGANIZER;CN="America%27s%20Car%20Museum":MAILTO:info@americascarmuseum.org
GEO:47.2376393;-122.4288203
END:VEVENT
END:VCALENDAR