BEGIN:VCALENDAR
VERSION:2.0
PRODID:-//America&#039;s Car Museum - ECPv6.1.3//NONSGML v1.0//EN
CALSCALE:GREGORIAN
METHOD:PUBLISH
X-WR-CALNAME:America&#039;s Car Museum
X-ORIGINAL-URL:https://www.americascarmuseum.org
X-WR-CALDESC:Events for America&#039;s Car Museum
REFRESH-INTERVAL;VALUE=DURATION:PT1H
X-Robots-Tag:noindex
X-PUBLISHED-TTL:PT1H
BEGIN:VTIMEZONE
TZID:America/Los_Angeles
BEGIN:DAYLIGHT
TZOFFSETFROM:-0800
TZOFFSETTO:-0700
TZNAME:PDT
DTSTART:20170312T100000
END:DAYLIGHT
BEGIN:STANDARD
TZOFFSETFROM:-0700
TZOFFSETTO:-0800
TZNAME:PST
DTSTART:20171105T090000
END:STANDARD
BEGIN:DAYLIGHT
TZOFFSETFROM:-0800
TZOFFSETTO:-0700
TZNAME:PDT
DTSTART:20180311T100000
END:DAYLIGHT
BEGIN:STANDARD
TZOFFSETFROM:-0700
TZOFFSETTO:-0800
TZNAME:PST
DTSTART:20181104T090000
END:STANDARD
BEGIN:DAYLIGHT
TZOFFSETFROM:-0800
TZOFFSETTO:-0700
TZNAME:PDT
DTSTART:20190310T100000
END:DAYLIGHT
BEGIN:STANDARD
TZOFFSETFROM:-0700
TZOFFSETTO:-0800
TZNAME:PST
DTSTART:20191103T090000
END:STANDARD
BEGIN:DAYLIGHT
TZOFFSETFROM:-0800
TZOFFSETTO:-0700
TZNAME:PDT
DTSTART:20200308T100000
END:DAYLIGHT
BEGIN:STANDARD
TZOFFSETFROM:-0700
TZOFFSETTO:-0800
TZNAME:PST
DTSTART:20201101T090000
END:STANDARD
BEGIN:DAYLIGHT
TZOFFSETFROM:-0800
TZOFFSETTO:-0700
TZNAME:PDT
DTSTART:20210314T100000
END:DAYLIGHT
BEGIN:STANDARD
TZOFFSETFROM:-0700
TZOFFSETTO:-0800
TZNAME:PST
DTSTART:20211107T090000
END:STANDARD
BEGIN:DAYLIGHT
TZOFFSETFROM:-0800
TZOFFSETTO:-0700
TZNAME:PDT
DTSTART:20220313T100000
END:DAYLIGHT
BEGIN:STANDARD
TZOFFSETFROM:-0700
TZOFFSETTO:-0800
TZNAME:PST
DTSTART:20221106T090000
END:STANDARD
BEGIN:DAYLIGHT
TZOFFSETFROM:-0800
TZOFFSETTO:-0700
TZNAME:PDT
DTSTART:20230312T100000
END:DAYLIGHT
BEGIN:STANDARD
TZOFFSETFROM:-0700
TZOFFSETTO:-0800
TZNAME:PST
DTSTART:20231105T090000
END:STANDARD
END:VTIMEZONE
BEGIN:VEVENT
DTSTART;TZID=America/Los_Angeles:20230801T100000
DTEND;TZID=America/Los_Angeles:20230801T110000
DTSTAMP:20230824T062306
CREATED:20230503T173624Z
LAST-MODIFIED:20230613T192942Z
UID:21127-1690884000-1690887600@www.americascarmuseum.org
SUMMARY:Storytime for Little Spark Plugs
DESCRIPTION:ACM welcomes toddlers and their caregivers for our brand new\, in-person Storytime for Little Spark Plugs! Join us to meet new friends\, enjoy interactive stories and action songs\, and play in ACM’s hands-on Family Zone. \nREGISTER HERE\n \n  \n \n  \nStorytime for Little Spark Plugs is FREE a free program offered through the generous funding of Tacoma Creates.
URL:https://www.americascarmuseum.org/event/storytime-for-little-spark-plugs/2023-08-01/
LOCATION:LeMay – America’s Car Museum\, 2702 East D Street\, Tacoma\, WA\, 98421\, United States
CATEGORIES:Education Events,Family Events
ATTACH;FMTTYPE=image/png:https://www.americascarmuseum.org/wp-content/uploads/Storytime-for-Little-Spark-Plugs-Logo.png
ORGANIZER;CN="Education%20Department":MAILTO:education@americascarmuseum.org
GEO:47.2362706;-122.4304605
X-APPLE-STRUCTURED-LOCATION;VALUE=URI;X-ADDRESS=LeMay – America’s Car Museum 2702 East D Street Tacoma WA 98421 United States;X-APPLE-RADIUS=500;X-TITLE=2702 East D Street:geo:-122.4304605,47.2362706
END:VEVENT
BEGIN:VEVENT
DTSTART;TZID=America/Los_Angeles:20230718T100000
DTEND;TZID=America/Los_Angeles:20230718T110000
DTSTAMP:20230824T062306
CREATED:20230503T173624Z
LAST-MODIFIED:20230613T192941Z
UID:21126-1689674400-1689678000@www.americascarmuseum.org
SUMMARY:Storytime for Little Spark Plugs
DESCRIPTION:ACM welcomes toddlers and their caregivers for our brand new\, in-person Storytime for Little Spark Plugs! Join us to meet new friends\, enjoy interactive stories and action songs\, and play in ACM’s hands-on Family Zone. \nREGISTER HERE\n \n  \n \n  \nStorytime for Little Spark Plugs is FREE a free program offered through the generous funding of Tacoma Creates.
URL:https://www.americascarmuseum.org/event/storytime-for-little-spark-plugs/2023-07-18/
LOCATION:LeMay – America’s Car Museum\, 2702 East D Street\, Tacoma\, WA\, 98421\, United States
CATEGORIES:Education Events,Family Events
ATTACH;FMTTYPE=image/png:https://www.americascarmuseum.org/wp-content/uploads/Storytime-for-Little-Spark-Plugs-Logo.png
ORGANIZER;CN="Education%20Department":MAILTO:education@americascarmuseum.org
GEO:47.2362706;-122.4304605
X-APPLE-STRUCTURED-LOCATION;VALUE=URI;X-ADDRESS=LeMay – America’s Car Museum 2702 East D Street Tacoma WA 98421 United States;X-APPLE-RADIUS=500;X-TITLE=2702 East D Street:geo:-122.4304605,47.2362706
END:VEVENT
BEGIN:VEVENT
DTSTART;TZID=America/Los_Angeles:20230606T100000
DTEND;TZID=America/Los_Angeles:20230606T110000
DTSTAMP:20230824T062306
CREATED:20230503T173624Z
LAST-MODIFIED:20230613T192939Z
UID:21012-1686045600-1686049200@www.americascarmuseum.org
SUMMARY:Storytime for Little Spark Plugs
DESCRIPTION:ACM welcomes toddlers and their caregivers for our brand new\, in-person Storytime for Little Spark Plugs! Join us to meet new friends\, enjoy interactive stories and action songs\, and play in ACM’s hands-on Family Zone. \nREGISTER HERE\n \n  \n \n  \nStorytime for Little Spark Plugs is FREE a free program offered through the generous funding of Tacoma Creates.
URL:https://www.americascarmuseum.org/event/storytime-for-little-spark-plugs/2023-06-06/
LOCATION:LeMay – America’s Car Museum\, 2702 East D Street\, Tacoma\, WA\, 98421\, United States
CATEGORIES:Education Events,Family Events
ATTACH;FMTTYPE=image/png:https://www.americascarmuseum.org/wp-content/uploads/Storytime-for-Little-Spark-Plugs-Logo.png
ORGANIZER;CN="Education%20Department":MAILTO:education@americascarmuseum.org
GEO:47.2362706;-122.4304605
X-APPLE-STRUCTURED-LOCATION;VALUE=URI;X-ADDRESS=LeMay – America’s Car Museum 2702 East D Street Tacoma WA 98421 United States;X-APPLE-RADIUS=500;X-TITLE=2702 East D Street:geo:-122.4304605,47.2362706
END:VEVENT
BEGIN:VEVENT
DTSTART;TZID=America/Los_Angeles:20230402T090000
DTEND;TZID=America/Los_Angeles:20230402T150000
DTSTAMP:20230824T062306
CREATED:20230228T213346Z
LAST-MODIFIED:20230324T184227Z
UID:20773-1680426000-1680447600@www.americascarmuseum.org
SUMMARY:Girl Scout Badge Day @ ACM
DESCRIPTION:THIS EVENT IS SOLD OUT!  \nTo add your name to the waitlist\, please contact the ACM Education Department at education@americascarmuseum.org \nBrownie and Junior Scouts are invited to join educators at LeMay – America’s Car Museum for an exciting full-day event to work through all the requirements for the Automotive Design\, Engineering\, and Manufacturing badges. Scouts will also have the opportunity to tour the Museum and participate in a hands-on basic automotive maintenance workshop. \nRegistration includes all materials needed to complete the three badges and lunch. We require that there be an adult present with the Scouts for the duration of the program. If a troop attends as a group\, one adult is required for every 10 Scouts attending the event. Accompanying adults will be admitted to the Museum free of charge to assist with supervision. \nRegistration fee: $35 \n* Please note that refunds cannot be issued following the close of program registration. In order to receive a refund prior to the close of registration\, all cancellations must be made in writing. \n\nEvent Details: \nWhen: Sunday\, April 2\, 2023  | 9 am – 3 pm \nWhere: LeMay – America’s Car Museum \nContact: Education Department – education@americascarmuseum.org  |  253.683.3978 \n\n 
URL:https://www.americascarmuseum.org/event/girl-scout-badge-day/
LOCATION:LeMay – America’s Car Museum\, 2702 East D Street\, Tacoma\, WA\, 98421\, United States
CATEGORIES:Family Events
ATTACH;FMTTYPE=image/jpeg:https://www.americascarmuseum.org/wp-content/uploads/PXL_20220707_200053948-1.jpg
ORGANIZER;CN="Education%20Department":MAILTO:education@americascarmuseum.org
GEO:47.2362706;-122.4304605
X-APPLE-STRUCTURED-LOCATION;VALUE=URI;X-ADDRESS=LeMay – America’s Car Museum 2702 East D Street Tacoma WA 98421 United States;X-APPLE-RADIUS=500;X-TITLE=2702 East D Street:geo:-122.4304605,47.2362706
END:VEVENT
BEGIN:VEVENT
DTSTART;TZID=America/Los_Angeles:20220218T090000
DTEND;TZID=America/Los_Angeles:20220218T160000
DTSTAMP:20230824T062306
CREATED:20211202T204414Z
LAST-MODIFIED:20211208T204135Z
UID:18715-1645174800-1645200000@www.americascarmuseum.org
SUMMARY:Hoods Up! Engine Workshop One-Day Intensive
DESCRIPTION:This one-day workshop offers 6th-9th graders the chance to get their hands dirty and learn about vehicles and their engines! With the help of the ACM Education team\, participants will tear down and rebuild a small gasoline-powered engine in this fun-filled\, all-day workshop at the Museum. \nACM Members | $80 – Includes all necessary materials\, lunch\, and a snack\nNon-Members | $95 – Includes all necessary materials\, lunch\, and a snack \nRegister Here!\nRegistration will close at midnight on Sunday\, February 13\, 2022. \nA limited number of scholarships are available. Please contact the ACM Education Department at education@americascarmuseum.org for more information. \n  \n* Please note that refunds cannot be issued following the close of program registration. In order to receive a refund prior to the close of registration\, all cancellations must be made in writing.
URL:https://www.americascarmuseum.org/event/hoods-up-engine-workshop-one-day-intensive/
LOCATION:LeMay – America’s Car Museum\, 2702 East D Street\, Tacoma\, WA\, 98421\, United States
CATEGORIES:Education Events,Family Events
ATTACH;FMTTYPE=image/jpeg:https://www.americascarmuseum.org/wp-content/uploads/Engine_Photo-scaled.jpg
ORGANIZER;CN="Education%20Department":MAILTO:education@americascarmuseum.org
GEO:47.2362706;-122.4304605
X-APPLE-STRUCTURED-LOCATION;VALUE=URI;X-ADDRESS=LeMay – America’s Car Museum 2702 East D Street Tacoma WA 98421 United States;X-APPLE-RADIUS=500;X-TITLE=2702 East D Street:geo:-122.4304605,47.2362706
END:VEVENT
BEGIN:VEVENT
DTSTART;TZID=America/Los_Angeles:20211211T110000
DTEND;TZID=America/Los_Angeles:20211211T150000
DTSTAMP:20230824T062306
CREATED:20181018T201809Z
LAST-MODIFIED:20211130T230958Z
UID:12264-1639220400-1639234800@www.americascarmuseum.org
SUMMARY:Santa at America's Car Museum
DESCRIPTION:Santa is driving in to ACM this holiday season! Join Santa for a photo op in our 1906 Cadillac Model K Tulip Touring Car on either the weekend of Saturday & Sunday\, December 11 & 12 or Saturday & Sunday\, December 18 & 19 from 11AM-3PM. \nKids receive a free slot car voucher for the ACM Speed Zone! Santa photos are included with ACM admission as a digital download.
URL:https://www.americascarmuseum.org/event/santa-at-acm-5/2021-12-11/
LOCATION:LeMay – America’s Car Museum\, 2702 East D Street\, Tacoma\, WA\, 98421\, United States
CATEGORIES:Family Events,Santa
ATTACH;FMTTYPE=image/jpeg:https://www.americascarmuseum.org/wp-content/uploads/eventimage-santa.jpg
ORGANIZER;CN="Guest%20Services%20Manager":MAILTO:patricia.borgardt@americascarmuseum.org
GEO:47.2362706;-122.4304605
X-APPLE-STRUCTURED-LOCATION;VALUE=URI;X-ADDRESS=LeMay – America’s Car Museum 2702 East D Street Tacoma WA 98421 United States;X-APPLE-RADIUS=500;X-TITLE=2702 East D Street:geo:-122.4304605,47.2362706
END:VEVENT
BEGIN:VEVENT
DTSTART;TZID=America/Los_Angeles:20181020T110000
DTEND;TZID=America/Los_Angeles:20181020T150000
DTSTAMP:20230824T062306
CREATED:20180912T185914Z
LAST-MODIFIED:20181009T224914Z
UID:12076-1540033200-1540047600@www.americascarmuseum.org
SUMMARY:Trunk or Treat at ACM
DESCRIPTION:Kids will trick-or-treat at the Museum to get their bags filled with sweets! Costumed kids* will also receive FREE admission into the Museum between 11 am and 3 pm. ACM Members are FREE!  \n*Youth 12 & under only. Accompanying adults must pay regular ACM admission. \nHow to donate Candy\nWe are anticipating lots of trunk or treaters and your support is much appreciated! Both pre-packaged candy and monetary donations will be accepted. For monetary donations\, contact the Education Department or drop off pre-packaged candy at ACM Guest Services during regular Museum hours. \n\nDon’t miss the other fun events going on Saturday\, October 20\, including Family STEAM Day featuring Not a Box (Cars) and Member Double Discount Day! \n  \nSpecial thanks to Oriental Trading Company for their generous donation and support of this event.
URL:https://www.americascarmuseum.org/event/trunk-treat-acm/
LOCATION:LeMay – America’s Car Museum\, 2702 East D Street\, Tacoma\, WA\, 98421\, United States
CATEGORIES:Family Events
ATTACH;FMTTYPE=image/jpeg:https://www.americascarmuseum.org/wp-content/uploads/TrunkOrTreat_girl-eventimage.jpg
ORGANIZER;CN="Education%20Department":MAILTO:education@americascarmuseum.org
GEO:47.2362706;-122.4304605
X-APPLE-STRUCTURED-LOCATION;VALUE=URI;X-ADDRESS=LeMay – America’s Car Museum 2702 East D Street Tacoma WA 98421 United States;X-APPLE-RADIUS=500;X-TITLE=2702 East D Street:geo:-122.4304605,47.2362706
END:VEVENT
BEGIN:VEVENT
DTSTART;VALUE=DATE:20180911
DTEND;VALUE=DATE:20180912
DTSTAMP:20230824T062306
CREATED:20180911T000909Z
LAST-MODIFIED:20180911T000909Z
UID:12057-1536624000-1536710399@www.americascarmuseum.org
SUMMARY:Free Museum Admission for All Tacoma Public Schools Students September 11 - 14
DESCRIPTION:*Students 12 years of age & under must be accompanied by an adult. Adults must pay regular ACM admission.
URL:https://www.americascarmuseum.org/event/free-museum-admission-tacoma-public-schools-students-september-11-14/2018-09-11/
LOCATION:LeMay – America’s Car Museum\, 2702 East D Street\, Tacoma\, WA\, 98421\, United States
CATEGORIES:Family Events
ATTACH;FMTTYPE=image/jpeg:https://www.americascarmuseum.org/wp-content/uploads/IMG_2166.jpg
ORGANIZER;CN="Education%20Department":MAILTO:education@americascarmuseum.org
GEO:47.2362706;-122.4304605
X-APPLE-STRUCTURED-LOCATION;VALUE=URI;X-ADDRESS=LeMay – America’s Car Museum 2702 East D Street Tacoma WA 98421 United States;X-APPLE-RADIUS=500;X-TITLE=2702 East D Street:geo:-122.4304605,47.2362706
END:VEVENT
BEGIN:VEVENT
DTSTART;VALUE=DATE:20180906
DTEND;VALUE=DATE:20180907
DTSTAMP:20230824T062306
CREATED:20180906T002015Z
LAST-MODIFIED:20180906T003326Z
UID:12025-1536192000-1536278399@www.americascarmuseum.org
SUMMARY:Free Museum Admission for All Tacoma Public Schools Students September 6 & 7
DESCRIPTION:*Students 12 years of age & under must be accompanied by an adult. Adults must pay regular ACM admission.
URL:https://www.americascarmuseum.org/event/free-museum-admission-tacoma-public-schools-students/2018-09-06/
LOCATION:LeMay – America’s Car Museum\, 2702 East D Street\, Tacoma\, WA\, 98421\, United States
CATEGORIES:Family Events
ATTACH;FMTTYPE=image/jpeg:https://www.americascarmuseum.org/wp-content/uploads/IMG_2166.jpg
ORGANIZER;CN="Education%20Department":MAILTO:education@americascarmuseum.org
GEO:47.2362706;-122.4304605
X-APPLE-STRUCTURED-LOCATION;VALUE=URI;X-ADDRESS=LeMay – America’s Car Museum 2702 East D Street Tacoma WA 98421 United States;X-APPLE-RADIUS=500;X-TITLE=2702 East D Street:geo:-122.4304605,47.2362706
END:VEVENT
BEGIN:VEVENT
DTSTART;VALUE=DATE:20170819
DTEND;VALUE=DATE:20170905
DTSTAMP:20230824T062306
CREATED:20170801T181933Z
LAST-MODIFIED:20170802T223216Z
UID:9327-1503100800-1504569599@www.americascarmuseum.org
SUMMARY:Back to School Special: Free Youth Admission
DESCRIPTION:Youth 12 and under get complimentary admission to ACM with a paying adult\, but the fun doesn’t end there! Challenge the kids to free 5-minute slot car races at the Miller Slot Car Circuit in the ACM Speed Zone. Keep your young vintage vehicle enthusiast entertained all year long with 20% off an ACM Family Membership!
URL:https://www.americascarmuseum.org/event/back-school-special-free-youth-admission/
LOCATION:America’s Car Museum
CATEGORIES:Family Events
ATTACH;FMTTYPE=image/jpeg:https://www.americascarmuseum.org/wp-content/uploads/backtoschool17-eventimage.jpg
ORGANIZER;CN="America%27s%20Car%20Museum":MAILTO:info@americascarmuseum.org
GEO:47.2376393;-122.4288203
END:VEVENT
END:VCALENDAR