BEGIN:VCALENDAR
VERSION:2.0
PRODID:-//America&#039;s Car Museum - ECPv6.1.3//NONSGML v1.0//EN
CALSCALE:GREGORIAN
METHOD:PUBLISH
X-ORIGINAL-URL:https://www.americascarmuseum.org
X-WR-CALDESC:Events for America&#039;s Car Museum
REFRESH-INTERVAL;VALUE=DURATION:PT1H
X-Robots-Tag:noindex
X-PUBLISHED-TTL:PT1H
BEGIN:VTIMEZONE
TZID:America/Los_Angeles
BEGIN:DAYLIGHT
TZOFFSETFROM:-0800
TZOFFSETTO:-0700
TZNAME:PDT
DTSTART:20230312T100000
END:DAYLIGHT
BEGIN:STANDARD
TZOFFSETFROM:-0700
TZOFFSETTO:-0800
TZNAME:PST
DTSTART:20231105T090000
END:STANDARD
END:VTIMEZONE
BEGIN:VEVENT
DTSTART;TZID=America/Los_Angeles:20230520T110000
DTEND;TZID=America/Los_Angeles:20230520T150000
DTSTAMP:20230824T051945
CREATED:20200128T182833Z
LAST-MODIFIED:20230317T151607Z
UID:20197-1684580400-1684594800@www.americascarmuseum.org
SUMMARY:Family STEAM Days - Robot Design Challenge featuring the SOTAbots
DESCRIPTION:Members of The SOTAbots (a Washington robotics team combining nontraditional High School students from The Industrial Design and Engineering Arts School (iDEA)\, School of the Arts (SOTA) and Tacoma Science and Math Institute (SAMi)) will be at the museum talking with visitors about designing\, programming and building robots. Create your own designs in our Bot Design Challenge and learn how the FIRST Robotics Competition program works. The team will have building materials for visitors to test their robotics skills and smaller robots to engage with. \nDesign\, build\, tinker and learn together as you explore the world of automobiles and its relation to science\, technology\, engineering\, art and math on Family STEAM Day. On the third Saturday of each month\, you and your child\, grandchild\, or family can spend quality time together exploring activities available in the Education Studio and Family Zone. \nFamily STEAM Days are free for ACM Members and is also included with Museum admission. Museum visitors age 18 and under receive FREE admission on Family STEAM Days.
URL:https://www.americascarmuseum.org/event/family-steam-days-2020-04-18-2023-05-20/
LOCATION:LeMay – America’s Car Museum\, 2702 East D Street\, Tacoma\, WA\, 98421\, United States
CATEGORIES:Family STEAM Days
ATTACH;FMTTYPE=image/jpeg:https://www.americascarmuseum.org/wp-content/uploads/IMG_8146.jpg
ORGANIZER;CN="Education%20Department":MAILTO:education@americascarmuseum.org
GEO:47.2362706;-122.4304605
X-APPLE-STRUCTURED-LOCATION;VALUE=URI;X-ADDRESS=LeMay – America’s Car Museum 2702 East D Street Tacoma WA 98421 United States;X-APPLE-RADIUS=500;X-TITLE=2702 East D Street:geo:-122.4304605,47.2362706
END:VEVENT
END:VCALENDAR