BEGIN:VCALENDAR
VERSION:2.0
PRODID:-//America&#039;s Car Museum - ECPv6.1.3//NONSGML v1.0//EN
CALSCALE:GREGORIAN
METHOD:PUBLISH
X-WR-CALNAME:America&#039;s Car Museum
X-ORIGINAL-URL:https://www.americascarmuseum.org
X-WR-CALDESC:Events for America&#039;s Car Museum
REFRESH-INTERVAL;VALUE=DURATION:PT1H
X-Robots-Tag:noindex
X-PUBLISHED-TTL:PT1H
BEGIN:VTIMEZONE
TZID:America/Los_Angeles
BEGIN:DAYLIGHT
TZOFFSETFROM:-0800
TZOFFSETTO:-0700
TZNAME:PDT
DTSTART:20170312T100000
END:DAYLIGHT
BEGIN:STANDARD
TZOFFSETFROM:-0700
TZOFFSETTO:-0800
TZNAME:PST
DTSTART:20171105T090000
END:STANDARD
BEGIN:DAYLIGHT
TZOFFSETFROM:-0800
TZOFFSETTO:-0700
TZNAME:PDT
DTSTART:20180311T100000
END:DAYLIGHT
BEGIN:STANDARD
TZOFFSETFROM:-0700
TZOFFSETTO:-0800
TZNAME:PST
DTSTART:20181104T090000
END:STANDARD
BEGIN:DAYLIGHT
TZOFFSETFROM:-0800
TZOFFSETTO:-0700
TZNAME:PDT
DTSTART:20190310T100000
END:DAYLIGHT
BEGIN:STANDARD
TZOFFSETFROM:-0700
TZOFFSETTO:-0800
TZNAME:PST
DTSTART:20191103T090000
END:STANDARD
BEGIN:DAYLIGHT
TZOFFSETFROM:-0800
TZOFFSETTO:-0700
TZNAME:PDT
DTSTART:20200308T100000
END:DAYLIGHT
BEGIN:STANDARD
TZOFFSETFROM:-0700
TZOFFSETTO:-0800
TZNAME:PST
DTSTART:20201101T090000
END:STANDARD
BEGIN:DAYLIGHT
TZOFFSETFROM:-0800
TZOFFSETTO:-0700
TZNAME:PDT
DTSTART:20210314T100000
END:DAYLIGHT
BEGIN:STANDARD
TZOFFSETFROM:-0700
TZOFFSETTO:-0800
TZNAME:PST
DTSTART:20211107T090000
END:STANDARD
END:VTIMEZONE
BEGIN:VEVENT
DTSTART;TZID=America/Los_Angeles:20211211T110000
DTEND;TZID=America/Los_Angeles:20211211T150000
DTSTAMP:20230824T062540
CREATED:20181018T201809Z
LAST-MODIFIED:20211130T230958Z
UID:12264-1639220400-1639234800@www.americascarmuseum.org
SUMMARY:Santa at America's Car Museum
DESCRIPTION:Santa is driving in to ACM this holiday season! Join Santa for a photo op in our 1906 Cadillac Model K Tulip Touring Car on either the weekend of Saturday & Sunday\, December 11 & 12 or Saturday & Sunday\, December 18 & 19 from 11AM-3PM. \nKids receive a free slot car voucher for the ACM Speed Zone! Santa photos are included with ACM admission as a digital download.
URL:https://www.americascarmuseum.org/event/santa-at-acm-5/2021-12-11/
LOCATION:LeMay – America’s Car Museum\, 2702 East D Street\, Tacoma\, WA\, 98421\, United States
CATEGORIES:Family Events,Santa
ATTACH;FMTTYPE=image/jpeg:https://www.americascarmuseum.org/wp-content/uploads/eventimage-santa.jpg
ORGANIZER;CN="Guest%20Services%20Manager":MAILTO:patricia.borgardt@americascarmuseum.org
GEO:47.2362706;-122.4304605
X-APPLE-STRUCTURED-LOCATION;VALUE=URI;X-ADDRESS=LeMay – America’s Car Museum 2702 East D Street Tacoma WA 98421 United States;X-APPLE-RADIUS=500;X-TITLE=2702 East D Street:geo:-122.4304605,47.2362706
END:VEVENT
BEGIN:VEVENT
DTSTART;TZID=America/Los_Angeles:20171217T110000
DTEND;TZID=America/Los_Angeles:20171217T150000
DTSTAMP:20230824T062540
CREATED:20151201T184705Z
LAST-MODIFIED:20171212T200937Z
UID:4128-1513508400-1513522800@www.americascarmuseum.org
SUMMARY:Santa at ACM
DESCRIPTION:Santa is driving in to ACM this holiday season to upgrade his ride! \nJoin Santa for a photo op in a 1906 Cadillac Model K Tulip Touring Car. Kids receive a free slot car voucher for the ACM Speed Zone! Santa photos are included with ACM admission as a digital download. \n \n\nSaturday\, December 16 from 11am – 3pm\nSunday\, December 17 from 11am – 3pm\n\nPURCHASE TICKETS \nOther Exciting Events\nSanta’s Castle Toy Drive: December 1 – 24 – Bring a new\, unwrapped toy donation to Santa’s Castle Toy Drive and receive $2 off ACM admission! \nHoods Up for the Holidays: December 9 – 24 – ACM is putting the hoods up on over a dozen iconic vehicles throughout the Museum! Pick up an Activity Guide from Guest Services.
URL:https://www.americascarmuseum.org/event/santa-at-acm-4/
LOCATION:America’s Car Museum
CATEGORIES:Santa
ATTACH;FMTTYPE=image/jpeg:https://www.americascarmuseum.org/wp-content/uploads/santa-eventimage.jpg
ORGANIZER;CN="America%27s%20Car%20Museum":MAILTO:info@americascarmuseum.org
GEO:47.2376393;-122.4288203
END:VEVENT
BEGIN:VEVENT
DTSTART;TZID=America/Los_Angeles:20171216T110000
DTEND;TZID=America/Los_Angeles:20171216T150000
DTSTAMP:20230824T062540
CREATED:20151116T190105Z
LAST-MODIFIED:20171212T200900Z
UID:3993-1513422000-1513436400@www.americascarmuseum.org
SUMMARY:Santa at ACM
DESCRIPTION:Santa is driving in to ACM this holiday season to upgrade his ride! \nJoin Santa for a photo op in a 1906 Cadillac Model K Tulip Touring Car. Kids receive a free slot car voucher for the ACM Speed Zone! Santa photos are included with ACM admission as a digital download. \n \n\nSaturday\, December 16 from 11am – 3pm\nSunday\, December 17 from 11am – 3pm\n\nPURCHASE TICKETS \nOther Exciting Events\nSanta’s Castle Toy Drive: December 1 – 24 – Bring a new\, unwrapped toy donation to Santa’s Castle Toy Drive and receive $2 off ACM admission! \nHoods Up for the Holidays: December 9 – 24 – ACM is putting the hoods up on over a dozen iconic vehicles throughout the Museum! Pick up an Activity Guide from Guest Services.
URL:https://www.americascarmuseum.org/event/santa-at-acm-2/
LOCATION:America’s Car Museum
CATEGORIES:Santa
ATTACH;FMTTYPE=image/jpeg:https://www.americascarmuseum.org/wp-content/uploads/santa-eventimage.jpg
ORGANIZER;CN="America%27s%20Car%20Museum":MAILTO:info@americascarmuseum.org
GEO:47.2376393;-122.4288203
END:VEVENT
BEGIN:VEVENT
DTSTART;TZID=America/Los_Angeles:20171210T110000
DTEND;TZID=America/Los_Angeles:20171210T150000
DTSTAMP:20230824T062540
CREATED:20151201T184529Z
LAST-MODIFIED:20171208T193737Z
UID:4127-1512903600-1512918000@www.americascarmuseum.org
SUMMARY:Santa at ACM
DESCRIPTION:Santa is driving in to ACM this holiday season to upgrade his ride! \nJoin Santa for a photo op in a 1906 Cadillac Model K Tulip Touring Car. Kids receive a free slot car voucher for the ACM Speed Zone! Santa photos are included with ACM admission as a digital download. \n \n\nSaturday\, December 9 from 11am – 3pm\nSunday\, December 10 from 11am – 3pm\nSaturday\, December 16 from 11am – 3pm\nSunday\, December 17 from 11am – 3pm\n\nOther Exciting Events\nSanta’s Castle Toy Drive: December 1 – 24 – Bring a new\, unwrapped toy donation to Santa’s Castle Toy Drive and receive $2 off ACM admission! \nHoods Up for the Holidays: December 9 – 24 – ACM is putting the hoods up on over a dozen iconic vehicles throughout the Museum! Pick up an Activity Guide from Guest Services.
URL:https://www.americascarmuseum.org/event/santa-at-acm-3/
LOCATION:America’s Car Museum
CATEGORIES:Santa
ATTACH;FMTTYPE=image/jpeg:https://www.americascarmuseum.org/wp-content/uploads/santa-eventimage.jpg
ORGANIZER;CN="America%27s%20Car%20Museum":MAILTO:info@americascarmuseum.org
GEO:47.2376393;-122.4288203
END:VEVENT
BEGIN:VEVENT
DTSTART;TZID=America/Los_Angeles:20171209T110000
DTEND;TZID=America/Los_Angeles:20171209T150000
DTSTAMP:20230824T062540
CREATED:20151026T224925Z
LAST-MODIFIED:20171208T193727Z
UID:3853-1512817200-1512831600@www.americascarmuseum.org
SUMMARY:Santa at ACM
DESCRIPTION:Santa is driving in to ACM this holiday season to upgrade his ride! \nJoin Santa for a photo op in a 1906 Cadillac Model K Tulip Touring Car. Kids receive a free slot car voucher for the ACM Speed Zone! Santa photos are included with ACM admission as a digital download. \n \n\nSaturday\, December 9 from 11am – 3pm\nSunday\, December 10 from 11am – 3pm\nSaturday\, December 16 from 11am – 3pm\nSunday\, December 17 from 11am – 3pm\n\nOther Exciting Events\nSanta’s Castle Toy Drive: December 1 – 24 – Bring a new\, unwrapped toy donation to Santa’s Castle Toy Drive and receive $2 off ACM admission! \nHoods Up for the Holidays: December 9 – 24 – ACM is putting the hoods up on over a dozen iconic vehicles throughout the Museum! Pick up an Activity Guide from Guest Services. \n 
URL:https://www.americascarmuseum.org/event/santa-at-acm/
LOCATION:America’s Car Museum
CATEGORIES:Santa
ATTACH;FMTTYPE=image/jpeg:https://www.americascarmuseum.org/wp-content/uploads/santa-eventimage.jpg
ORGANIZER;CN="America%27s%20Car%20Museum":MAILTO:info@americascarmuseum.org
GEO:47.2376393;-122.4288203
END:VEVENT
END:VCALENDAR