BEGIN:VCALENDAR
VERSION:2.0
PRODID:-//America&#039;s Car Museum - ECPv6.1.3//NONSGML v1.0//EN
CALSCALE:GREGORIAN
METHOD:PUBLISH
X-WR-CALNAME:America&#039;s Car Museum
X-ORIGINAL-URL:https://www.americascarmuseum.org
X-WR-CALDESC:Events for America&#039;s Car Museum
REFRESH-INTERVAL;VALUE=DURATION:PT1H
X-Robots-Tag:noindex
X-PUBLISHED-TTL:PT1H
BEGIN:VTIMEZONE
TZID:America/Los_Angeles
BEGIN:DAYLIGHT
TZOFFSETFROM:-0800
TZOFFSETTO:-0700
TZNAME:PDT
DTSTART:20160313T100000
END:DAYLIGHT
BEGIN:STANDARD
TZOFFSETFROM:-0700
TZOFFSETTO:-0800
TZNAME:PST
DTSTART:20161106T090000
END:STANDARD
BEGIN:DAYLIGHT
TZOFFSETFROM:-0800
TZOFFSETTO:-0700
TZNAME:PDT
DTSTART:20170312T100000
END:DAYLIGHT
BEGIN:STANDARD
TZOFFSETFROM:-0700
TZOFFSETTO:-0800
TZNAME:PST
DTSTART:20171105T090000
END:STANDARD
BEGIN:DAYLIGHT
TZOFFSETFROM:-0800
TZOFFSETTO:-0700
TZNAME:PDT
DTSTART:20180311T100000
END:DAYLIGHT
BEGIN:STANDARD
TZOFFSETFROM:-0700
TZOFFSETTO:-0800
TZNAME:PST
DTSTART:20181104T090000
END:STANDARD
BEGIN:DAYLIGHT
TZOFFSETFROM:-0800
TZOFFSETTO:-0700
TZNAME:PDT
DTSTART:20190310T100000
END:DAYLIGHT
BEGIN:STANDARD
TZOFFSETFROM:-0700
TZOFFSETTO:-0800
TZNAME:PST
DTSTART:20191103T090000
END:STANDARD
BEGIN:DAYLIGHT
TZOFFSETFROM:-0800
TZOFFSETTO:-0700
TZNAME:PDT
DTSTART:20200308T100000
END:DAYLIGHT
BEGIN:STANDARD
TZOFFSETFROM:-0700
TZOFFSETTO:-0800
TZNAME:PST
DTSTART:20201101T090000
END:STANDARD
BEGIN:DAYLIGHT
TZOFFSETFROM:-0800
TZOFFSETTO:-0700
TZNAME:PDT
DTSTART:20210314T100000
END:DAYLIGHT
BEGIN:STANDARD
TZOFFSETFROM:-0700
TZOFFSETTO:-0800
TZNAME:PST
DTSTART:20211107T090000
END:STANDARD
BEGIN:DAYLIGHT
TZOFFSETFROM:-0800
TZOFFSETTO:-0700
TZNAME:PDT
DTSTART:20220313T100000
END:DAYLIGHT
BEGIN:STANDARD
TZOFFSETFROM:-0700
TZOFFSETTO:-0800
TZNAME:PST
DTSTART:20221106T090000
END:STANDARD
BEGIN:DAYLIGHT
TZOFFSETFROM:-0800
TZOFFSETTO:-0700
TZNAME:PDT
DTSTART:20230312T100000
END:DAYLIGHT
BEGIN:STANDARD
TZOFFSETFROM:-0700
TZOFFSETTO:-0800
TZNAME:PST
DTSTART:20231105T090000
END:STANDARD
END:VTIMEZONE
BEGIN:VEVENT
DTSTART;TZID=America/Los_Angeles:20230727T110000
DTEND;TZID=America/Los_Angeles:20230727T150000
DTSTAMP:20230824T055633
CREATED:20230522T221058Z
LAST-MODIFIED:20230818T214428Z
UID:21103-1690455600-1690470000@www.americascarmuseum.org
SUMMARY:CANCELED ~ Take A Spin ~ CANCELED
DESCRIPTION:THIS EVENT HAS BEEN CANCELED\nExperience history in motion! Take a ride around the Haub Family Field in vehicles selected from the LeMay – America’s Car Museum Collection! Your ride may vary from early antiques\, pre-war Classics\, Fabulous Fifties to the Rad ’80s\, and more! \n\nHave your camera at the ready to capture the fun!\nPro Tip: wear comfortable clothes if you wish to learn the lost art of getting in and out of a “rumble seat”!\nThis event is weather dependent and will be rescheduled if needed\nMust be 44 inches or taller to ride\nNon-Member individual price: $2 per ride\nNon-Member family price: $5 per ride\nFREE rides for ACM Members! Not a member yet? Click here to join!\nEBT rates available
URL:https://www.americascarmuseum.org/event/take-a-spin-13/2023-07-27/
LOCATION:America’s Car Museum
CATEGORIES:Take A Spin
ATTACH;FMTTYPE=image/jpeg:https://www.americascarmuseum.org/wp-content/uploads/DSC2550-scaled.jpg
GEO:47.2376393;-122.4288203
END:VEVENT
BEGIN:VEVENT
DTSTART;TZID=America/Los_Angeles:20230629T110000
DTEND;TZID=America/Los_Angeles:20230629T150000
DTSTAMP:20230824T055633
CREATED:20230522T221058Z
LAST-MODIFIED:20230818T214428Z
UID:21102-1688036400-1688050800@www.americascarmuseum.org
SUMMARY:CANCELED ~ Take A Spin ~ CANCELED
DESCRIPTION:THIS EVENT HAS BEEN CANCELED\nExperience history in motion! Take a ride around the Haub Family Field in vehicles selected from the LeMay – America’s Car Museum Collection! Your ride may vary from early antiques\, pre-war Classics\, Fabulous Fifties to the Rad ’80s\, and more! \n\nHave your camera at the ready to capture the fun!\nPro Tip: wear comfortable clothes if you wish to learn the lost art of getting in and out of a “rumble seat”!\nThis event is weather dependent and will be rescheduled if needed\nMust be 44 inches or taller to ride\nNon-Member individual price: $2 per ride\nNon-Member family price: $5 per ride\nFREE rides for ACM Members! Not a member yet? Click here to join!\nEBT rates available
URL:https://www.americascarmuseum.org/event/take-a-spin-13/2023-06-29/
LOCATION:America’s Car Museum
CATEGORIES:Take A Spin
ATTACH;FMTTYPE=image/jpeg:https://www.americascarmuseum.org/wp-content/uploads/DSC2550-scaled.jpg
GEO:47.2376393;-122.4288203
END:VEVENT
BEGIN:VEVENT
DTSTART;TZID=America/Los_Angeles:20230601T110000
DTEND;TZID=America/Los_Angeles:20230601T150000
DTSTAMP:20230824T055633
CREATED:20230522T221058Z
LAST-MODIFIED:20230818T214427Z
UID:21099-1685617200-1685631600@www.americascarmuseum.org
SUMMARY:CANCELED ~ Take A Spin ~ CANCELED
DESCRIPTION:THIS EVENT HAS BEEN CANCELED\nExperience history in motion! Take a ride around the Haub Family Field in vehicles selected from the LeMay – America’s Car Museum Collection! Your ride may vary from early antiques\, pre-war Classics\, Fabulous Fifties to the Rad ’80s\, and more! \n\nHave your camera at the ready to capture the fun!\nPro Tip: wear comfortable clothes if you wish to learn the lost art of getting in and out of a “rumble seat”!\nThis event is weather dependent and will be rescheduled if needed\nMust be 44 inches or taller to ride\nNon-Member individual price: $2 per ride\nNon-Member family price: $5 per ride\nFREE rides for ACM Members! Not a member yet? Click here to join!\nEBT rates available
URL:https://www.americascarmuseum.org/event/take-a-spin-13/2023-06-01/
LOCATION:America’s Car Museum
CATEGORIES:Take A Spin
ATTACH;FMTTYPE=image/jpeg:https://www.americascarmuseum.org/wp-content/uploads/DSC2550-scaled.jpg
GEO:47.2376393;-122.4288203
END:VEVENT
BEGIN:VEVENT
DTSTART;TZID=America/Los_Angeles:20200514T110000
DTEND;TZID=America/Los_Angeles:20200514T140000
DTSTAMP:20230824T055633
CREATED:20190405T200313Z
LAST-MODIFIED:20200513T192017Z
UID:13582-1589454000-1589464800@www.americascarmuseum.org
SUMMARY:CANCELED: Take A Spin
DESCRIPTION:The 2020 Take A Spin season has been canceled due to COVID-19. \n\nRide in vehicles from the ACM Collection and experience history in motion! Vehicles will vary and may be a selection from Antiques and pre-war Classics to the Fabulous Fifties\, perhaps a fire truck may make a special appearance! \nThis event is FREE for ACM Members or included with Museum admission.
URL:https://www.americascarmuseum.org/event/take-a-spin-10-2019-08-22/2020-05-14/
LOCATION:LeMay – America’s Car Museum\, 2702 East D Street\, Tacoma\, WA\, 98421\, United States
CATEGORIES:Take A Spin
ATTACH;FMTTYPE=image/jpeg:https://www.americascarmuseum.org/wp-content/uploads/tas-eventimage-2020.jpg
ORGANIZER;CN="Guest%20Services%20Manager":MAILTO:patricia.borgardt@americascarmuseum.org
GEO:47.2362706;-122.4304605
X-APPLE-STRUCTURED-LOCATION;VALUE=URI;X-ADDRESS=LeMay – America’s Car Museum 2702 East D Street Tacoma WA 98421 United States;X-APPLE-RADIUS=500;X-TITLE=2702 East D Street:geo:-122.4304605,47.2362706
END:VEVENT
BEGIN:VEVENT
DTSTART;TZID=America/Los_Angeles:20190620T110000
DTEND;TZID=America/Los_Angeles:20190620T140000
DTSTAMP:20230824T055633
CREATED:20190405T200313Z
LAST-MODIFIED:20190516T173011Z
UID:13580-1561028400-1561039200@www.americascarmuseum.org
SUMMARY:Take A Spin
DESCRIPTION:Ride in vehicles from the ACM Collection and experience history in motion! Vehicles will vary and may be a selection from Antiques and pre-war Classics to the Fabulous Fifties\, perhaps a fire truck may make a special appearance! \nThis event is FREE for ACM Members or included with Museum admission. \n \n2019 TAKE A SPIN DATES: \n\nThursday\, May 16\nThursday\, June 20\nThursday\, July 11\nThursday\, August 22\n\n 
URL:https://www.americascarmuseum.org/event/take-a-spin-10-2019-06-20/2019-06-20/
LOCATION:LeMay – America’s Car Museum\, 2702 East D Street\, Tacoma\, WA\, 98421\, United States
CATEGORIES:Take A Spin
ATTACH;FMTTYPE=image/jpeg:https://www.americascarmuseum.org/wp-content/uploads/takeaspin.jpg
ORGANIZER;CN="Guest%20Services%20Manager":MAILTO:patricia.borgardt@americascarmuseum.org
GEO:47.2362706;-122.4304605
X-APPLE-STRUCTURED-LOCATION;VALUE=URI;X-ADDRESS=LeMay – America’s Car Museum 2702 East D Street Tacoma WA 98421 United States;X-APPLE-RADIUS=500;X-TITLE=2702 East D Street:geo:-122.4304605,47.2362706
END:VEVENT
BEGIN:VEVENT
DTSTART;TZID=America/Los_Angeles:20190516T110000
DTEND;TZID=America/Los_Angeles:20190516T140000
DTSTAMP:20230824T055633
CREATED:20190405T200313Z
LAST-MODIFIED:20190516T173101Z
UID:13578-1558004400-1558015200@www.americascarmuseum.org
SUMMARY:Canceled Due to Inclement Weather: Take A Spin
DESCRIPTION:Canceled Due to Inclement Weather\nRide in vehicles from the ACM Collection and experience history in motion! Vehicles will vary and may be a selection from Antiques and pre-war Classics to the Fabulous Fifties\, perhaps a fire truck may make a special appearance! \nThis event is FREE for ACM Members or included with Museum admission. \n \n2019 TAKE A SPIN DATES: \n\nThursday\, May 16\nThursday\, June 20\nThursday\, July 11\nThursday\, August 22\n\n 
URL:https://www.americascarmuseum.org/event/take-a-spin-10/
LOCATION:LeMay – America’s Car Museum\, 2702 East D Street\, Tacoma\, WA\, 98421\, United States
CATEGORIES:Take A Spin
ATTACH;FMTTYPE=image/jpeg:https://www.americascarmuseum.org/wp-content/uploads/takeaspin.jpg
ORGANIZER;CN="Guest%20Services%20Manager":MAILTO:patricia.borgardt@americascarmuseum.org
GEO:47.2362706;-122.4304605
X-APPLE-STRUCTURED-LOCATION;VALUE=URI;X-ADDRESS=LeMay – America’s Car Museum 2702 East D Street Tacoma WA 98421 United States;X-APPLE-RADIUS=500;X-TITLE=2702 East D Street:geo:-122.4304605,47.2362706
END:VEVENT
BEGIN:VEVENT
DTSTART;TZID=America/Los_Angeles:20180515T110000
DTEND;TZID=America/Los_Angeles:20180515T140000
DTSTAMP:20230824T055633
CREATED:20161214T211155Z
LAST-MODIFIED:20180515T163246Z
UID:6682-1526382000-1526392800@www.americascarmuseum.org
SUMMARY:Take A Spin
DESCRIPTION:Summer just isn’t as fun without ACM’s Take A Spin events!\nRide in vehicles from the ACM Collection and experience history in motion! Vehicles will vary and may be a selection from Antiques and pre-war Classics to the Fabulous Fifties\, perhaps a fire truck may make a special appearance! \nThis event is free for ACM Members or included with Museum admission. \n2018 Take a Spin Dates:\n\nTuesday\, May 15\nTuesday\, June 19\nThursday\, July 26\nThursday\, August 2
URL:https://www.americascarmuseum.org/event/take-a-spin-8/2018-05-15/
LOCATION:America’s Car Museum
CATEGORIES:Take A Spin
ATTACH;FMTTYPE=image/jpeg:https://www.americascarmuseum.org/wp-content/uploads/takeaspin-eventimage2-322x323-1.jpg
ORGANIZER;CN="America%27s%20Car%20Museum":MAILTO:info@americascarmuseum.org
GEO:47.2376393;-122.4288203
END:VEVENT
BEGIN:VEVENT
DTSTART;VALUE=DATE:20170921
DTEND;VALUE=DATE:20170922
DTSTAMP:20230824T055633
CREATED:20161214T211309Z
LAST-MODIFIED:20170921T185715Z
UID:6684-1505952000-1506038399@www.americascarmuseum.org
SUMMARY:Canceled: Take A Spin
DESCRIPTION:This event has been canceled due to weather. We apologize for any inconvenience this may have caused.\n \n 
URL:https://www.americascarmuseum.org/event/take-a-spin-9/
LOCATION:America’s Car Museum
CATEGORIES:Take A Spin
ATTACH;FMTTYPE=image/jpeg:https://www.americascarmuseum.org/wp-content/uploads/takeaspin-eventimage2-322x323-1.jpg
ORGANIZER;CN="America%27s%20Car%20Museum":MAILTO:info@americascarmuseum.org
GEO:47.2376393;-122.4288203
END:VEVENT
BEGIN:VEVENT
DTSTART;TZID=America/Los_Angeles:20170803T110000
DTEND;TZID=America/Los_Angeles:20170803T140000
DTSTAMP:20230824T055633
CREATED:20161214T211102Z
LAST-MODIFIED:20170717T154748Z
UID:6680-1501758000-1501768800@www.americascarmuseum.org
SUMMARY:Take A Spin
DESCRIPTION:Summer just isn’t as fun without ACM’s Take A Spin events!\nRide in vehicles from the ACM Collection and experience history in motion! Vehicles will vary and may be a selection from Antiques and pre-war Classics to the Fabulous Fifties\, perhaps a fire truck may make a special appearance! \nFree\, with Museum admission. \n2017 Take a Spin Dates:\n\nSaturday May 13\nThursday July 20\nThursday August 3\nTuesday August 22\nThursday\, September 21
URL:https://www.americascarmuseum.org/event/take-a-spin-7/
LOCATION:America’s Car Museum
CATEGORIES:Take A Spin
ATTACH;FMTTYPE=image/jpeg:https://www.americascarmuseum.org/wp-content/uploads/takeaspin-eventimage2-322x323-1.jpg
ORGANIZER;CN="America%27s%20Car%20Museum":MAILTO:info@americascarmuseum.org
GEO:47.2376393;-122.4288203
END:VEVENT
BEGIN:VEVENT
DTSTART;TZID=America/Los_Angeles:20170720T110000
DTEND;TZID=America/Los_Angeles:20170720T140000
DTSTAMP:20230824T055633
CREATED:20161214T210954Z
LAST-MODIFIED:20170717T154721Z
UID:6678-1500548400-1500559200@www.americascarmuseum.org
SUMMARY:Take A Spin
DESCRIPTION:Summer just isn’t as fun without ACM’s Take A Spin events! \nRide in vehicles from the ACM Collection and experience history in motion! Vehicles will vary and may be a selection from Antiques and pre-war Classics to the Fabulous Fifties\, perhaps a fire truck may make a special appearance! \nFree\, with Museum admission. \n2017 Take a Spin Dates:\n\nSaturday May 13\nThursday July 20\nThursday August 3\nTuesday August 22\nThursday\, September 21
URL:https://www.americascarmuseum.org/event/take-a-spin-6/
LOCATION:America’s Car Museum
CATEGORIES:Take A Spin
ATTACH;FMTTYPE=image/jpeg:https://www.americascarmuseum.org/wp-content/uploads/takeaspin-eventimage2-322x323-1.jpg
ORGANIZER;CN="America%27s%20Car%20Museum":MAILTO:info@americascarmuseum.org
GEO:47.2376393;-122.4288203
END:VEVENT
BEGIN:VEVENT
DTSTART;TZID=America/Los_Angeles:20170513T110000
DTEND;TZID=America/Los_Angeles:20170513T140000
DTSTAMP:20230824T055633
CREATED:20161214T210823Z
LAST-MODIFIED:20170510T192448Z
UID:6675-1494673200-1494684000@www.americascarmuseum.org
SUMMARY:CANCELED: Take A Spin
DESCRIPTION:This event has been canceled due to rain. We apologize for any inconvenience this may cause and encourage you to join us for the next Take A Spin happening on July 20.\n \n 2017 Take a Spin Dates\n\nThursday July 20\nThursday August 3\nTuesday August 22\nSaturday September 23
URL:https://www.americascarmuseum.org/event/take-a-spin-5/
LOCATION:America’s Car Museum
CATEGORIES:Take A Spin
ATTACH;FMTTYPE=image/jpeg:https://www.americascarmuseum.org/wp-content/uploads/takeaspin-eventimage2-322x323-1-322x323-1.jpg
ORGANIZER;CN="America%27s%20Car%20Museum":MAILTO:info@americascarmuseum.org
GEO:47.2376393;-122.4288203
END:VEVENT
BEGIN:VEVENT
DTSTART;TZID=America/Los_Angeles:20160924T110000
DTEND;TZID=America/Los_Angeles:20160924T140000
DTSTAMP:20230824T055633
CREATED:20160329T220707Z
LAST-MODIFIED:20160902T184544Z
UID:5099-1474714800-1474725600@www.americascarmuseum.org
SUMMARY:Take A Spin
DESCRIPTION:Summer just isn’t as fun without ACM’s Take A Spin events!\nRides in vehicles from the ACM Collection will be presented for guests to experience history in motion!  Vehicles will vary and may be a selection from Antiques and pre-war Classics to from the Fabulous Fifties\, perhaps a fire truck may make a special appearance!
URL:https://www.americascarmuseum.org/event/take-a-spin-4/
LOCATION:America’s Car Museum
CATEGORIES:Take A Spin
ATTACH;FMTTYPE=image/jpeg:https://www.americascarmuseum.org/wp-content/uploads/takeaspin-eventimage2.jpg
ORGANIZER;CN="America%27s%20Car%20Museum":MAILTO:info@americascarmuseum.org
GEO:47.2376393;-122.4288203
END:VEVENT
BEGIN:VEVENT
DTSTART;TZID=America/Los_Angeles:20160823T110000
DTEND;TZID=America/Los_Angeles:20160823T140000
DTSTAMP:20230824T055633
CREATED:20160329T220602Z
LAST-MODIFIED:20160815T143322Z
UID:5098-1471950000-1471960800@www.americascarmuseum.org
SUMMARY:Take A Spin
DESCRIPTION:Summer just isn’t as fun without ACM’s Take A Spin events!\nExperience history in motion with rides in vehicles from the ACM Collection! Vehicles will vary from Antiques and pre-war Classics to the Fabulous Fifties\, perhaps a fire truck may make a special appearance! Free with Museum admission.
URL:https://www.americascarmuseum.org/event/take-a-spin-3/
LOCATION:America’s Car Museum
CATEGORIES:Take A Spin
ATTACH;FMTTYPE=image/jpeg:https://www.americascarmuseum.org/wp-content/uploads/takeaspin-eventimage2.jpg
ORGANIZER;CN="America%27s%20Car%20Museum":MAILTO:info@americascarmuseum.org
GEO:47.2376393;-122.4288203
END:VEVENT
BEGIN:VEVENT
DTSTART;TZID=America/Los_Angeles:20160804T110000
DTEND;TZID=America/Los_Angeles:20160804T140000
DTSTAMP:20230824T055633
CREATED:20150331T163651Z
LAST-MODIFIED:20160627T233307Z
UID:2465-1470308400-1470319200@www.americascarmuseum.org
SUMMARY:Take A Spin
DESCRIPTION:Summer just isn’t as fun without ACM’s Take A Spin events!\nRides in vehicles from the ACM Collection will be presented for guests to experience history in motion!  Vehicles will vary and may be a selection from Antiques and pre-war Classics to from the Fabulous Fifties\, perhaps a fire truck may make a special appearance!
URL:https://www.americascarmuseum.org/event/take-spin/
LOCATION:America’s Car Museum
CATEGORIES:Take A Spin
ATTACH;FMTTYPE=image/jpeg:https://www.americascarmuseum.org/wp-content/uploads/takeaspin-eventimage2.jpg
GEO:47.2376393;-122.4288203
END:VEVENT
BEGIN:VEVENT
DTSTART;TZID=America/Los_Angeles:20160721T110000
DTEND;TZID=America/Los_Angeles:20160721T140000
DTSTAMP:20230824T055633
CREATED:20150427T211513Z
LAST-MODIFIED:20160627T234141Z
UID:2997-1469098800-1469109600@www.americascarmuseum.org
SUMMARY:Take A Spin
DESCRIPTION:Summer just isn’t as fun without ACM’s Take A Spin events!\nRides in vehicles from the ACM Collection will be presented for guests to experience history in motion!  Vehicles will vary and may be a selection from Antiques and pre-war Classics to from the Fabulous Fifties\, perhaps a fire truck may make a special appearance! \nTake a Spin is part of a celebration of Collector Car Appreciation Month.
URL:https://www.americascarmuseum.org/event/take-a-spin/
LOCATION:America’s Car Museum
CATEGORIES:Take A Spin
ATTACH;FMTTYPE=image/jpeg:https://www.americascarmuseum.org/wp-content/uploads/takeaspin-eventimage2.jpg
ORGANIZER;CN="America%27s%20Car%20Museum":MAILTO:info@americascarmuseum.org
GEO:47.2376393;-122.4288203
END:VEVENT
BEGIN:VEVENT
DTSTART;TZID=America/Los_Angeles:20160514T110000
DTEND;TZID=America/Los_Angeles:20160514T140000
DTSTAMP:20230824T055633
CREATED:20150427T211607Z
LAST-MODIFIED:20160511T164118Z
UID:2998-1463223600-1463234400@www.americascarmuseum.org
SUMMARY:Take A Spin
DESCRIPTION:Summer just isn’t as fun without ACM’s Take A Spin events! \nRides in vehicles from the ACM Collection will be presented for guests to experience history in motion!  Vehicles will vary and may be a selection from Antiques and pre-war Classics to from the Fabulous Fifties\, perhaps a fire truck may make a special appearance! \nFree\, with Museum admission.
URL:https://www.americascarmuseum.org/event/take-a-spin-2/
LOCATION:America’s Car Museum
CATEGORIES:Take A Spin
ATTACH;FMTTYPE=image/jpeg:https://www.americascarmuseum.org/wp-content/uploads/2015/03/TakeASpin.jpg
ORGANIZER;CN="America%27s%20Car%20Museum":MAILTO:info@americascarmuseum.org
GEO:47.2376393;-122.4288203
END:VEVENT
END:VCALENDAR