BEGIN:VCALENDAR
VERSION:2.0
PRODID:-//America&#039;s Car Museum - ECPv6.1.3//NONSGML v1.0//EN
CALSCALE:GREGORIAN
METHOD:PUBLISH
X-ORIGINAL-URL:https://www.americascarmuseum.org
X-WR-CALDESC:Events for America&#039;s Car Museum
REFRESH-INTERVAL;VALUE=DURATION:PT1H
X-Robots-Tag:noindex
X-PUBLISHED-TTL:PT1H
BEGIN:VTIMEZONE
TZID:America/Los_Angeles
BEGIN:DAYLIGHT
TZOFFSETFROM:-0800
TZOFFSETTO:-0700
TZNAME:PDT
DTSTART:20230312T100000
END:DAYLIGHT
BEGIN:STANDARD
TZOFFSETFROM:-0700
TZOFFSETTO:-0800
TZNAME:PST
DTSTART:20231105T090000
END:STANDARD
BEGIN:DAYLIGHT
TZOFFSETFROM:-0800
TZOFFSETTO:-0700
TZNAME:PDT
DTSTART:20240310T100000
END:DAYLIGHT
BEGIN:STANDARD
TZOFFSETFROM:-0700
TZOFFSETTO:-0800
TZNAME:PST
DTSTART:20241103T090000
END:STANDARD
END:VTIMEZONE
BEGIN:VEVENT
DTSTART;TZID=America/Los_Angeles:20231114T180000
DTEND;TZID=America/Los_Angeles:20231114T190000
DTSTAMP:20230824T045615
CREATED:20230815T152837Z
LAST-MODIFIED:20230815T153646Z
UID:21299-1699984800-1699988400@www.americascarmuseum.org
SUMMARY:ACM Virtual Book Club - Go Like Hell: Ford\, Ferrari\, and Their Battle for Speed and Glory at Le Mans
DESCRIPTION:We are thrilled to invite you to the next meeting of our ACM Book Club! This quarter\, we’ll be driving into the exhilarating world of motorsport history with New York Times bestselling author A.J. Baime’s gripping book\, “Go Like Hell: Ford\, Ferrari\, and Their Battle for Speed and Glory at Le Mans.” Baime’s novel has been critically acclaimed\, receiving the Ken Purdy Award for best writing in the automotive space by the International Motor Press Association\, as well as being adapted into the 2019 hit film Ford v. Ferrari. \nPrepare to be transported to the golden era of racing\, as A.J. Baime’s masterful storytelling takes us back to the 1960s when the legendary rivalry between Ford and Ferrari ignited the tracks of Le Mans. The pages of “Go Like Hell” are filled with high-stakes drama\, fierce competition\, and the indomitable spirit of innovation. \nGuests are encouraged to engage in a lively and thoughtful conversation with the author during our virtual discussion. The discussion and Q & A will take place on Zoom\, November 14th at 6pm. \nRESERVE YOUR SPOT TODAY! \nThis book is available on Kindle and print.
URL:https://www.americascarmuseum.org/event/acm-virtual-book-club-go-like-hell-ford-ferrari-and-their-battle-for-speed-and-glory-at-le-mans/
CATEGORIES:Education Events
ATTACH;FMTTYPE=image/jpeg:https://www.americascarmuseum.org/wp-content/uploads/golikehell.jpeg
ORGANIZER;CN="Education%20Department":MAILTO:education@americascarmuseum.org
END:VEVENT
BEGIN:VEVENT
DTSTART;TZID=America/Los_Angeles:20231118T110000
DTEND;TZID=America/Los_Angeles:20231118T150000
DTSTAMP:20230824T045615
CREATED:20200128T182833Z
LAST-MODIFIED:20230317T162523Z
UID:20444-1700305200-1700319600@www.americascarmuseum.org
SUMMARY:Family STEAM Days - Bridge the Gap
DESCRIPTION:The automobile was a life-changing invention\, but without bridges\, we wouldn’t be able to visit and explore some of our favorite places. Today\, we’ll use simple materials to design and build our own bridges. Think like an engineer\, ask questions\, and have fun completing this design challenge! \nDesign\, build\, tinker and learn together as you explore the world of automobiles and its relation to science\, technology\, engineering\, art and math on Family STEAM Day. On the third Saturday of each month\, you and your child\, grandchild\, or family can spend quality time together exploring activities available in the Education Studio and Family Zone. \nFamily STEAM Days are free for ACM Members and is also included with Museum admission. Museum visitors age 18 and under receive FREE admission on Family STEAM Days.
URL:https://www.americascarmuseum.org/event/family-steam-days-2020-04-18-2023-11-18/
LOCATION:LeMay – America’s Car Museum\, 2702 East D Street\, Tacoma\, WA\, 98421\, United States
CATEGORIES:Family STEAM Days
ATTACH;FMTTYPE=image/jpeg:https://www.americascarmuseum.org/wp-content/uploads/steam-mar18-eventimage.jpg
ORGANIZER;CN="Education%20Department":MAILTO:education@americascarmuseum.org
GEO:47.2362706;-122.4304605
X-APPLE-STRUCTURED-LOCATION;VALUE=URI;X-ADDRESS=LeMay – America’s Car Museum 2702 East D Street Tacoma WA 98421 United States;X-APPLE-RADIUS=500;X-TITLE=2702 East D Street:geo:-122.4304605,47.2362706
END:VEVENT
BEGIN:VEVENT
DTSTART;TZID=America/Los_Angeles:20231216T110000
DTEND;TZID=America/Los_Angeles:20231216T150000
DTSTAMP:20230824T045615
CREATED:20200128T182833Z
LAST-MODIFIED:20230317T162834Z
UID:20508-1702724400-1702738800@www.americascarmuseum.org
SUMMARY:Family STEAM Days - Merry & Bright
DESCRIPTION:Join the ACM Education team to learn about circuits and use your own bright ideas to create some sparkling holiday cards. \nDesign\, build\, tinker and learn together as you explore the world of automobiles and its relation to science\, technology\, engineering\, art and math on Family STEAM Day. On the third Saturday of each month\, you and your child\, grandchild\, or family can spend quality time together exploring activities available in the Education Studio and Family Zone. \nFamily STEAM Days are free for ACM Members and is also included with Museum admission. Museum visitors age 18 and under receive FREE admission on Family STEAM Days.
URL:https://www.americascarmuseum.org/event/family-steam-days-2020-04-18-2023-12-16/
LOCATION:LeMay – America’s Car Museum\, 2702 East D Street\, Tacoma\, WA\, 98421\, United States
CATEGORIES:Family STEAM Days
ATTACH;FMTTYPE=image/jpeg:https://www.americascarmuseum.org/wp-content/uploads/hoodsup-holidays-eventimage.jpg
ORGANIZER;CN="Education%20Department":MAILTO:education@americascarmuseum.org
GEO:47.2362706;-122.4304605
X-APPLE-STRUCTURED-LOCATION;VALUE=URI;X-ADDRESS=LeMay – America’s Car Museum 2702 East D Street Tacoma WA 98421 United States;X-APPLE-RADIUS=500;X-TITLE=2702 East D Street:geo:-122.4304605,47.2362706
END:VEVENT
BEGIN:VEVENT
DTSTART;TZID=America/Los_Angeles:20240120T110000
DTEND;TZID=America/Los_Angeles:20240120T150000
DTSTAMP:20230824T045615
CREATED:20200128T182833Z
LAST-MODIFIED:20200128T182833Z
UID:20624-1705748400-1705762800@www.americascarmuseum.org
SUMMARY:Family STEAM Days - Every Third Saturday!
DESCRIPTION:Design\, build\, tinker and learn together as you explore the world of automobiles and its relation to science\, technology\, engineering\, art and math on Family STEAM Day. On the third Saturday of each month\, you and your child\, grandchild\, or family can spend quality time together exploring activities available in the Education Studio and Family Zone. \nFamily STEAM Days are free for ACM Members and is also included with Museum admission. Museum visitors age 18 and under receive FREE admission on Family STEAM Days.
URL:https://www.americascarmuseum.org/event/family-steam-days-2020-04-18/2024-01-20/
LOCATION:LeMay – America’s Car Museum\, 2702 East D Street\, Tacoma\, WA\, 98421\, United States
CATEGORIES:Family STEAM Days
ATTACH;FMTTYPE=image/jpeg:https://www.americascarmuseum.org/wp-content/uploads/steam-day-2020-eventimage.jpg
ORGANIZER;CN="Education%20Department":MAILTO:education@americascarmuseum.org
GEO:47.2362706;-122.4304605
X-APPLE-STRUCTURED-LOCATION;VALUE=URI;X-ADDRESS=LeMay – America’s Car Museum 2702 East D Street Tacoma WA 98421 United States;X-APPLE-RADIUS=500;X-TITLE=2702 East D Street:geo:-122.4304605,47.2362706
END:VEVENT
BEGIN:VEVENT
DTSTART;TZID=America/Los_Angeles:20240217T110000
DTEND;TZID=America/Los_Angeles:20240217T150000
DTSTAMP:20230824T045615
CREATED:20200128T182833Z
LAST-MODIFIED:20200128T182833Z
UID:20729-1708167600-1708182000@www.americascarmuseum.org
SUMMARY:Family STEAM Days - Every Third Saturday!
DESCRIPTION:Design\, build\, tinker and learn together as you explore the world of automobiles and its relation to science\, technology\, engineering\, art and math on Family STEAM Day. On the third Saturday of each month\, you and your child\, grandchild\, or family can spend quality time together exploring activities available in the Education Studio and Family Zone. \nFamily STEAM Days are free for ACM Members and is also included with Museum admission. Museum visitors age 18 and under receive FREE admission on Family STEAM Days.
URL:https://www.americascarmuseum.org/event/family-steam-days-2020-04-18/2024-02-17/
LOCATION:LeMay – America’s Car Museum\, 2702 East D Street\, Tacoma\, WA\, 98421\, United States
CATEGORIES:Family STEAM Days
ATTACH;FMTTYPE=image/jpeg:https://www.americascarmuseum.org/wp-content/uploads/steam-day-2020-eventimage.jpg
ORGANIZER;CN="Education%20Department":MAILTO:education@americascarmuseum.org
GEO:47.2362706;-122.4304605
X-APPLE-STRUCTURED-LOCATION;VALUE=URI;X-ADDRESS=LeMay – America’s Car Museum 2702 East D Street Tacoma WA 98421 United States;X-APPLE-RADIUS=500;X-TITLE=2702 East D Street:geo:-122.4304605,47.2362706
END:VEVENT
BEGIN:VEVENT
DTSTART;TZID=America/Los_Angeles:20240224T110000
DTEND;TZID=America/Los_Angeles:20240224T120000
DTSTAMP:20230824T045615
CREATED:20230407T191516Z
LAST-MODIFIED:20230815T151354Z
UID:20917-1708772400-1708776000@www.americascarmuseum.org
SUMMARY:ACM Book Club - The Dealer
DESCRIPTION:Author and Ferrari enthusiast Jim Ciardella joins us to discuss his fascinating book\, The Dealer\, and to share the true story of how Ferrari of Los Gatos helped shape the classic car market. Hear the story of how one dealership fueled the rise of the iconic Italian sports car in the U.S. market on its way to becoming the number one Ferrari dealer in North America. \nWe are especially excited to announce that the author\, Jim Ciardella\, will be joining us for our discussion. \nProceeds from Jim’s book go to charity! for every book you purchase\, $1 will be donated to the Driven Project\, a non-profit organization that provides ‘Supercar Therapy’ for kids battling heavy life challenges. The organization’s mission is to give kids a once in a lifetime moment that they will cherish forever. \n 
URL:https://www.americascarmuseum.org/event/acm-book-club-and-special-if-cars-could-talk-the-dealer/
LOCATION:LeMay – America’s Car Museum\, 2702 East D Street\, Tacoma\, WA\, 98421\, United States
CATEGORIES:If Cars Could Talk
ATTACH;FMTTYPE=image/jpeg:https://www.americascarmuseum.org/wp-content/uploads/51rahhiqQLL._SL500_.jpg
ORGANIZER;CN="Education%20Department":MAILTO:education@americascarmuseum.org
GEO:47.2362706;-122.4304605
X-APPLE-STRUCTURED-LOCATION;VALUE=URI;X-ADDRESS=LeMay – America’s Car Museum 2702 East D Street Tacoma WA 98421 United States;X-APPLE-RADIUS=500;X-TITLE=2702 East D Street:geo:-122.4304605,47.2362706
END:VEVENT
BEGIN:VEVENT
DTSTART;TZID=America/Los_Angeles:20240316T110000
DTEND;TZID=America/Los_Angeles:20240316T150000
DTSTAMP:20230824T045615
CREATED:20200128T182833Z
LAST-MODIFIED:20200128T182833Z
UID:20844-1710586800-1710601200@www.americascarmuseum.org
SUMMARY:Family STEAM Days - Every Third Saturday!
DESCRIPTION:Design\, build\, tinker and learn together as you explore the world of automobiles and its relation to science\, technology\, engineering\, art and math on Family STEAM Day. On the third Saturday of each month\, you and your child\, grandchild\, or family can spend quality time together exploring activities available in the Education Studio and Family Zone. \nFamily STEAM Days are free for ACM Members and is also included with Museum admission. Museum visitors age 18 and under receive FREE admission on Family STEAM Days.
URL:https://www.americascarmuseum.org/event/family-steam-days-2020-04-18/2024-03-16/
LOCATION:LeMay – America’s Car Museum\, 2702 East D Street\, Tacoma\, WA\, 98421\, United States
CATEGORIES:Family STEAM Days
ATTACH;FMTTYPE=image/jpeg:https://www.americascarmuseum.org/wp-content/uploads/steam-day-2020-eventimage.jpg
ORGANIZER;CN="Education%20Department":MAILTO:education@americascarmuseum.org
GEO:47.2362706;-122.4304605
X-APPLE-STRUCTURED-LOCATION;VALUE=URI;X-ADDRESS=LeMay – America’s Car Museum 2702 East D Street Tacoma WA 98421 United States;X-APPLE-RADIUS=500;X-TITLE=2702 East D Street:geo:-122.4304605,47.2362706
END:VEVENT
BEGIN:VEVENT
DTSTART;TZID=America/Los_Angeles:20240420T110000
DTEND;TZID=America/Los_Angeles:20240420T150000
DTSTAMP:20230824T045615
CREATED:20200128T182833Z
LAST-MODIFIED:20200128T182833Z
UID:20935-1713610800-1713625200@www.americascarmuseum.org
SUMMARY:Family STEAM Days - Every Third Saturday!
DESCRIPTION:Design\, build\, tinker and learn together as you explore the world of automobiles and its relation to science\, technology\, engineering\, art and math on Family STEAM Day. On the third Saturday of each month\, you and your child\, grandchild\, or family can spend quality time together exploring activities available in the Education Studio and Family Zone. \nFamily STEAM Days are free for ACM Members and is also included with Museum admission. Museum visitors age 18 and under receive FREE admission on Family STEAM Days.
URL:https://www.americascarmuseum.org/event/family-steam-days-2020-04-18/2024-04-20/
LOCATION:LeMay – America’s Car Museum\, 2702 East D Street\, Tacoma\, WA\, 98421\, United States
CATEGORIES:Family STEAM Days
ATTACH;FMTTYPE=image/jpeg:https://www.americascarmuseum.org/wp-content/uploads/steam-day-2020-eventimage.jpg
ORGANIZER;CN="Education%20Department":MAILTO:education@americascarmuseum.org
GEO:47.2362706;-122.4304605
X-APPLE-STRUCTURED-LOCATION;VALUE=URI;X-ADDRESS=LeMay – America’s Car Museum 2702 East D Street Tacoma WA 98421 United States;X-APPLE-RADIUS=500;X-TITLE=2702 East D Street:geo:-122.4304605,47.2362706
END:VEVENT
BEGIN:VEVENT
DTSTART;TZID=America/Los_Angeles:20240518T110000
DTEND;TZID=America/Los_Angeles:20240518T150000
DTSTAMP:20230824T045615
CREATED:20200128T182833Z
LAST-MODIFIED:20200128T182833Z
UID:21098-1716030000-1716044400@www.americascarmuseum.org
SUMMARY:Family STEAM Days - Every Third Saturday!
DESCRIPTION:Design\, build\, tinker and learn together as you explore the world of automobiles and its relation to science\, technology\, engineering\, art and math on Family STEAM Day. On the third Saturday of each month\, you and your child\, grandchild\, or family can spend quality time together exploring activities available in the Education Studio and Family Zone. \nFamily STEAM Days are free for ACM Members and is also included with Museum admission. Museum visitors age 18 and under receive FREE admission on Family STEAM Days.
URL:https://www.americascarmuseum.org/event/family-steam-days-2020-04-18/2024-05-18/
LOCATION:LeMay – America’s Car Museum\, 2702 East D Street\, Tacoma\, WA\, 98421\, United States
CATEGORIES:Family STEAM Days
ATTACH;FMTTYPE=image/jpeg:https://www.americascarmuseum.org/wp-content/uploads/steam-day-2020-eventimage.jpg
ORGANIZER;CN="Education%20Department":MAILTO:education@americascarmuseum.org
GEO:47.2362706;-122.4304605
X-APPLE-STRUCTURED-LOCATION;VALUE=URI;X-ADDRESS=LeMay – America’s Car Museum 2702 East D Street Tacoma WA 98421 United States;X-APPLE-RADIUS=500;X-TITLE=2702 East D Street:geo:-122.4304605,47.2362706
END:VEVENT
BEGIN:VEVENT
DTSTART;TZID=America/Los_Angeles:20240615T110000
DTEND;TZID=America/Los_Angeles:20240615T150000
DTSTAMP:20230824T045615
CREATED:20200128T182833Z
LAST-MODIFIED:20200128T182833Z
UID:21184-1718449200-1718463600@www.americascarmuseum.org
SUMMARY:Family STEAM Days - Every Third Saturday!
DESCRIPTION:Design\, build\, tinker and learn together as you explore the world of automobiles and its relation to science\, technology\, engineering\, art and math on Family STEAM Day. On the third Saturday of each month\, you and your child\, grandchild\, or family can spend quality time together exploring activities available in the Education Studio and Family Zone. \nFamily STEAM Days are free for ACM Members and is also included with Museum admission. Museum visitors age 18 and under receive FREE admission on Family STEAM Days.
URL:https://www.americascarmuseum.org/event/family-steam-days-2020-04-18/2024-06-15/
LOCATION:LeMay – America’s Car Museum\, 2702 East D Street\, Tacoma\, WA\, 98421\, United States
CATEGORIES:Family STEAM Days
ATTACH;FMTTYPE=image/jpeg:https://www.americascarmuseum.org/wp-content/uploads/steam-day-2020-eventimage.jpg
ORGANIZER;CN="Education%20Department":MAILTO:education@americascarmuseum.org
GEO:47.2362706;-122.4304605
X-APPLE-STRUCTURED-LOCATION;VALUE=URI;X-ADDRESS=LeMay – America’s Car Museum 2702 East D Street Tacoma WA 98421 United States;X-APPLE-RADIUS=500;X-TITLE=2702 East D Street:geo:-122.4304605,47.2362706
END:VEVENT
BEGIN:VEVENT
DTSTART;TZID=America/Los_Angeles:20240720T110000
DTEND;TZID=America/Los_Angeles:20240720T150000
DTSTAMP:20230824T045615
CREATED:20200128T182833Z
LAST-MODIFIED:20200128T182833Z
UID:21269-1721473200-1721487600@www.americascarmuseum.org
SUMMARY:Family STEAM Days - Every Third Saturday!
DESCRIPTION:Design\, build\, tinker and learn together as you explore the world of automobiles and its relation to science\, technology\, engineering\, art and math on Family STEAM Day. On the third Saturday of each month\, you and your child\, grandchild\, or family can spend quality time together exploring activities available in the Education Studio and Family Zone. \nFamily STEAM Days are free for ACM Members and is also included with Museum admission. Museum visitors age 18 and under receive FREE admission on Family STEAM Days.
URL:https://www.americascarmuseum.org/event/family-steam-days-2020-04-18/2024-07-20/
LOCATION:LeMay – America’s Car Museum\, 2702 East D Street\, Tacoma\, WA\, 98421\, United States
CATEGORIES:Family STEAM Days
ATTACH;FMTTYPE=image/jpeg:https://www.americascarmuseum.org/wp-content/uploads/steam-day-2020-eventimage.jpg
ORGANIZER;CN="Education%20Department":MAILTO:education@americascarmuseum.org
GEO:47.2362706;-122.4304605
X-APPLE-STRUCTURED-LOCATION;VALUE=URI;X-ADDRESS=LeMay – America’s Car Museum 2702 East D Street Tacoma WA 98421 United States;X-APPLE-RADIUS=500;X-TITLE=2702 East D Street:geo:-122.4304605,47.2362706
END:VEVENT
BEGIN:VEVENT
DTSTART;TZID=America/Los_Angeles:20240817T110000
DTEND;TZID=America/Los_Angeles:20240817T150000
DTSTAMP:20230824T045615
CREATED:20200128T182833Z
LAST-MODIFIED:20200128T182833Z
UID:21313-1723892400-1723906800@www.americascarmuseum.org
SUMMARY:Family STEAM Days - Every Third Saturday!
DESCRIPTION:Design\, build\, tinker and learn together as you explore the world of automobiles and its relation to science\, technology\, engineering\, art and math on Family STEAM Day. On the third Saturday of each month\, you and your child\, grandchild\, or family can spend quality time together exploring activities available in the Education Studio and Family Zone. \nFamily STEAM Days are free for ACM Members and is also included with Museum admission. Museum visitors age 18 and under receive FREE admission on Family STEAM Days.
URL:https://www.americascarmuseum.org/event/family-steam-days-2020-04-18/2024-08-17/
LOCATION:LeMay – America’s Car Museum\, 2702 East D Street\, Tacoma\, WA\, 98421\, United States
CATEGORIES:Family STEAM Days
ATTACH;FMTTYPE=image/jpeg:https://www.americascarmuseum.org/wp-content/uploads/steam-day-2020-eventimage.jpg
ORGANIZER;CN="Education%20Department":MAILTO:education@americascarmuseum.org
GEO:47.2362706;-122.4304605
X-APPLE-STRUCTURED-LOCATION;VALUE=URI;X-ADDRESS=LeMay – America’s Car Museum 2702 East D Street Tacoma WA 98421 United States;X-APPLE-RADIUS=500;X-TITLE=2702 East D Street:geo:-122.4304605,47.2362706
END:VEVENT
END:VCALENDAR