BEGIN:VCALENDAR
VERSION:2.0
PRODID:-//America&#039;s Car Museum - ECPv6.1.3//NONSGML v1.0//EN
CALSCALE:GREGORIAN
METHOD:PUBLISH
X-ORIGINAL-URL:https://www.americascarmuseum.org
X-WR-CALDESC:Events for America&#039;s Car Museum
REFRESH-INTERVAL;VALUE=DURATION:PT1H
X-Robots-Tag:noindex
X-PUBLISHED-TTL:PT1H
BEGIN:VTIMEZONE
TZID:America/Los_Angeles
BEGIN:DAYLIGHT
TZOFFSETFROM:-0800
TZOFFSETTO:-0700
TZNAME:PDT
DTSTART:20230312T100000
END:DAYLIGHT
BEGIN:STANDARD
TZOFFSETFROM:-0700
TZOFFSETTO:-0800
TZNAME:PST
DTSTART:20231105T090000
END:STANDARD
END:VTIMEZONE
BEGIN:VEVENT
DTSTART;TZID=America/Los_Angeles:20230304T090000
DTEND;TZID=America/Los_Angeles:20230304T160000
DTSTAMP:20230824T080816
CREATED:20230131T213102Z
LAST-MODIFIED:20230223T181922Z
UID:20649-1677920400-1677945600@www.americascarmuseum.org
SUMMARY:***POSTPONED*** Full STEAM Ahead: A K-12 Educator Workshop
DESCRIPTION:***THIS EVENT HAS BEEN POSTPONED***\n \nTacoma’s Museum District brings you creative new ways to incorporate Science\, Technology\, Engineering\, Art\, and Mathematics into your classroom. Educators from America’s Car Museum\, Foss Waterway Seaport\, Museum of Glass\, Tacoma Art Museum\, Washington State History Museum\, and Slater Museum of Natural History will provide engaging\, hands-on workshops for both primary and secondary teachers\, offering lesson plans and supplementary materials for educators to utilize in their own classrooms. \nRegistration includes lunch\, cross-curricular lesson plans\, parking and admission to each museum. Participation in the program qualifies for 6 clock hours. \nRegistration fee: $60 \n* Please note that refunds cannot be issued following the close of program registration. In order to receive a refund prior to the close of registration\, all cancellations must be made in writing. \nPlease check with your school district regarding reimbursement for professional development. \n\nSESSIONS & LOCATIONS \nSession 1 | 9:30 am – 11:15 am \nNature in the Classroom \n Presented by Slater Museum of Natural History \nBring the incredible biodiversity of the Puget Sound right into your classroom with the Slater Museum of Natural History’s Nature in the Classroom kits! With the direction of educators from the Slater Museum of Natural History\, you’ll learn how to properly teach these free multidisciplinary science-based curriculum kits that allow students to explore the biodiversity of the Puget Sound using real-life museum specimens.  \nOR \nJunior Curator Academy \nPresented by Museum of Glass \nJoin educators from the Museum of Glass to learn more about Junior Curator Academy\, an engaging program offered both in-person and virtually. Experience this social-studies centered educational program as your students would and consider how you might bring these interdisciplinary lessons back to your school and your classroom! \nSession 2 | 11:30 am – 1:15 pm \nMaterials Matter: 3D Printing and Innovative Applications \nPresented by LeMay-America’s Car Museum \nJoin educators from LeMay – America’s Car Museum to explore 3D modeling and printing and discuss how new materials and innovative applications are changing the world of the automobile. Learn more about how engineers are choosing materials as they consider sustainability. Then\, experiment with light-weighting as we investigate renewable power sources and the implications of electric vehicles. This session will offer lesson plans that can be modified to meet the needs of elementary\, middle\, and high school students. \nOR \nExhibit Design: What Stories Can Objects Tell? \nPresented by Washington State History Museum \nTurn your classroom into a museum! Join educators from the Washington State Historical Society for this workshop where you will learn what goes into planning a successful museum exhibit\, and how to help your students act as curators\, designers\, and engineers to create exhibits of their own on any topic—from salmon\, to steam trains\, to storytelling. Plus\, you’ll get the chance to tour and evaluate a museum exhibit for yourself. \nSession 3 | 1:45 pm – 3:30 pm \nVisual Thinking Strategies \nPresented by Tacoma Art Museum \nIn this session\, presented by Tacoma Art Museum\, educators will learn about Visual Thinking Strategies\, an inquiry-based method of teaching with works of art. Visual Thinking Strategies provides ways for teachers to make learning more community based and more accessible for students from all different backgrounds and promotes critical thinking/problem solving/empathy building within classrooms and schools. Practice this method with your fellow teachers and participate in a hands-on art project to explore how to apply this method in your classroom. You’ll leave the program with creative ideas of how to invigorate curriculum\, how to facilitate engaging dialogue with students\, and how to integrate more accessible and inclusive practices in your teaching styles. \nOR \nDream Stream \nPresented by Foss Waterway Seaport \nTeachers will be able to understand what a healthy riparian zone means\, what salmon need in order to thrive in a stream\, and how to multiple biotic (living) and abiotic (nonliving) factors can have an impact on our local salmon health. \n“Dream Stream” is a hands on activity that gets students thinking about human impacts on our environment and what that means for other living beings. Incorporating the “Riparian Zone” by Northwest Treaty Tribes opens up a conversation on how salmon are not only a food staple for current peoples but that they hold a cultural significance for local tribes across the Northwest.  \n\nEvent Details: \nWhen: Saturday\, March 4\, 2023  | 9 am – 4 pm \nWhere: LeMay – America’s Car Museum \nContact: Education Department – education@americascarmuseum.org  |  253.683.3978 \n\n  \n 
URL:https://www.americascarmuseum.org/event/fullsteam2023/
LOCATION:LeMay – America’s Car Museum\, 2702 East D Street\, Tacoma\, WA\, 98421\, United States
CATEGORIES:Education Events
ATTACH;FMTTYPE=image/png:https://www.americascarmuseum.org/wp-content/uploads/FSA-2023-Logo.png
ORGANIZER;CN="Education%20Department":MAILTO:education@americascarmuseum.org
GEO:47.2362706;-122.4304605
X-APPLE-STRUCTURED-LOCATION;VALUE=URI;X-ADDRESS=LeMay – America’s Car Museum 2702 East D Street Tacoma WA 98421 United States;X-APPLE-RADIUS=500;X-TITLE=2702 East D Street:geo:-122.4304605,47.2362706
END:VEVENT
BEGIN:VEVENT
DTSTART;TZID=America/Los_Angeles:20230305T113000
DTEND;TZID=America/Los_Angeles:20230305T123000
DTSTAMP:20230824T080816
CREATED:20220619T194933Z
LAST-MODIFIED:20230208T214256Z
UID:19970-1678015800-1678019400@www.americascarmuseum.org
SUMMARY:If Cars Could Talk--Luke Rizzuto & the World Auto Tour
DESCRIPTION:Hear about Luke Rizzuto’s driving adventures on the World Auto Tour in 2008 and 2014. After successfully recreating and completing the United States leg of the 1908 Automobile Great Race on its 100th anniversary in 2008\, Luke then meticulously planned the 2nd leg and completed that in 2014. He will be presenting photos and stories from these two historic tours–there is sure to be something for everyone in this engaging talk! \n  \n**photo courtesy of Luke Rizzuto\, worldautotour.com** \n\nThe If Cars Could Talk lecture series is FREE for ACM Members and is also included with Museum admission. Bring a lunch to enjoy\, light refreshments provided.
URL:https://www.americascarmuseum.org/event/if-cars-could-talk-luke-rizzuto-the-world-auto-tour/
LOCATION:America’s Car Museum
CATEGORIES:If Cars Could Talk
ATTACH;FMTTYPE=image/png:https://www.americascarmuseum.org/wp-content/uploads/Screen-Shot-2022-06-19-at-12.34.07-PM-1.png
ORGANIZER;CN="Education%20Department":MAILTO:education@americascarmuseum.org
GEO:47.2376393;-122.4288203
END:VEVENT
BEGIN:VEVENT
DTSTART;TZID=America/Los_Angeles:20230307T180000
DTEND;TZID=America/Los_Angeles:20230307T190000
DTSTAMP:20230824T080816
CREATED:20230112T203058Z
LAST-MODIFIED:20230117T175826Z
UID:20581-1678212000-1678215600@www.americascarmuseum.org
SUMMARY:ACM Virtual Book Club - Women at the Wheel: A Century of Buying\, Driving\, and Fixing Cars
DESCRIPTION:Join America’s Car Museum as we read Women at the Wheel: A Century of Buying\, Driving\, and Fixing Cars by Katherine J. Parkin. “In Women at the Wheel\, Katherine J. Parkin illuminates the social implications of [the stereotypes that portray [women] as uninterested in automobiles and\, more perniciously\, as poor drivers] and shows how they have little basis in historical reality. With chapters on early driver’s education and licensing programs\, and on buying\, driving\, and caring for cars\, she describes a rich cast of characters\, from Mary Landon\, the first woman ever to drive in 1899\, to Dorothy Levitt\, author of the first automotive handbook for women in 1909\, to Margie Seals\, who opened her garage\, “My Favorite Mechanic . . . Is a Woman\,” in 1992.” \nWe are especially excited to announce that the author\, Katherine J. Parkin will be joining us for our discussion! \nThe discussion and Q & A will take place on Zoom\, March 7th at 6pm. \nRESERVE YOUR SPOT TODAY! \nThis book is available on Kindle and print. \nPurchasing your copy via this LINK and receive 30% off using the code PRKNWATW30. Additionally\, the Education Resource Center has copies to lend\, please email education@americascarmuseum.org to arrange checkout.
URL:https://www.americascarmuseum.org/event/acm-virtual-book-club-women-at-the-wheel/
LOCATION:LeMay – America’s Car Museum\, 2702 East D Street\, Tacoma\, WA\, 98421\, United States
CATEGORIES:Education Events
ATTACH;FMTTYPE=image/jpeg:https://www.americascarmuseum.org/wp-content/uploads/51iEWgi4JSL._SX333_BO1204203200_.jpg
ORGANIZER;CN="Education%20Department":MAILTO:education@americascarmuseum.org
GEO:47.2362706;-122.4304605
X-APPLE-STRUCTURED-LOCATION;VALUE=URI;X-ADDRESS=LeMay – America’s Car Museum 2702 East D Street Tacoma WA 98421 United States;X-APPLE-RADIUS=500;X-TITLE=2702 East D Street:geo:-122.4304605,47.2362706
END:VEVENT
BEGIN:VEVENT
DTSTART;TZID=America/Los_Angeles:20230318T110000
DTEND;TZID=America/Los_Angeles:20230318T150000
DTSTAMP:20230824T080816
CREATED:20200128T182833Z
LAST-MODIFIED:20230123T180533Z
UID:20195-1679137200-1679151600@www.americascarmuseum.org
SUMMARY:Family STEAM Days - 3D Printing with Plants
DESCRIPTION:From car parts to medical devices\, toys to tools\, the possibilities are endless with 3D printing! Join us to explore the history of 3D printing\, see a few 3D printers in action\, familiarize yourself with computer automated design (CAD) software\, and learn about the world of biofuels and the development of bio-compostable materials. \nDesign\, build\, tinker and learn together as you explore the world of automobiles and its relation to science\, technology\, engineering\, art and math on Family STEAM Day. On the third Saturday of each month\, you and your child\, grandchild\, or family can spend quality time together exploring activities available in the Education Studio and Family Zone. \nFamily STEAM Days are free for ACM Members and is also included with Museum admission. Museum visitors age 18 and under receive FREE admission on Family STEAM Days.
URL:https://www.americascarmuseum.org/event/family-steam-days-2020-04-18-2023-03-18/
LOCATION:LeMay – America’s Car Museum\, 2702 East D Street\, Tacoma\, WA\, 98421\, United States
CATEGORIES:Family STEAM Days
ATTACH;FMTTYPE=image/jpeg:https://www.americascarmuseum.org/wp-content/uploads/biofuels-mar20.jpg
ORGANIZER;CN="Education%20Department":MAILTO:education@americascarmuseum.org
GEO:47.2362706;-122.4304605
X-APPLE-STRUCTURED-LOCATION;VALUE=URI;X-ADDRESS=LeMay – America’s Car Museum 2702 East D Street Tacoma WA 98421 United States;X-APPLE-RADIUS=500;X-TITLE=2702 East D Street:geo:-122.4304605,47.2362706
END:VEVENT
END:VCALENDAR