BEGIN:VCALENDAR
VERSION:2.0
PRODID:-//America&#039;s Car Museum - ECPv6.1.3//NONSGML v1.0//EN
CALSCALE:GREGORIAN
METHOD:PUBLISH
X-ORIGINAL-URL:https://www.americascarmuseum.org
X-WR-CALDESC:Events for America&#039;s Car Museum
REFRESH-INTERVAL;VALUE=DURATION:PT1H
X-Robots-Tag:noindex
X-PUBLISHED-TTL:PT1H
BEGIN:VTIMEZONE
TZID:America/Los_Angeles
BEGIN:DAYLIGHT
TZOFFSETFROM:-0800
TZOFFSETTO:-0700
TZNAME:PDT
DTSTART:20230312T100000
END:DAYLIGHT
BEGIN:STANDARD
TZOFFSETFROM:-0700
TZOFFSETTO:-0800
TZNAME:PST
DTSTART:20231105T090000
END:STANDARD
END:VTIMEZONE
BEGIN:VEVENT
DTSTART;TZID=America/Los_Angeles:20230402T090000
DTEND;TZID=America/Los_Angeles:20230402T150000
DTSTAMP:20230824T044753
CREATED:20230228T213346Z
LAST-MODIFIED:20230324T184227Z
UID:20773-1680426000-1680447600@www.americascarmuseum.org
SUMMARY:Girl Scout Badge Day @ ACM
DESCRIPTION:THIS EVENT IS SOLD OUT!  \nTo add your name to the waitlist\, please contact the ACM Education Department at education@americascarmuseum.org \nBrownie and Junior Scouts are invited to join educators at LeMay – America’s Car Museum for an exciting full-day event to work through all the requirements for the Automotive Design\, Engineering\, and Manufacturing badges. Scouts will also have the opportunity to tour the Museum and participate in a hands-on basic automotive maintenance workshop. \nRegistration includes all materials needed to complete the three badges and lunch. We require that there be an adult present with the Scouts for the duration of the program. If a troop attends as a group\, one adult is required for every 10 Scouts attending the event. Accompanying adults will be admitted to the Museum free of charge to assist with supervision. \nRegistration fee: $35 \n* Please note that refunds cannot be issued following the close of program registration. In order to receive a refund prior to the close of registration\, all cancellations must be made in writing. \n\nEvent Details: \nWhen: Sunday\, April 2\, 2023  | 9 am – 3 pm \nWhere: LeMay – America’s Car Museum \nContact: Education Department – education@americascarmuseum.org  |  253.683.3978 \n\n 
URL:https://www.americascarmuseum.org/event/girl-scout-badge-day/
LOCATION:LeMay – America’s Car Museum\, 2702 East D Street\, Tacoma\, WA\, 98421\, United States
CATEGORIES:Family Events
ATTACH;FMTTYPE=image/jpeg:https://www.americascarmuseum.org/wp-content/uploads/PXL_20220707_200053948-1.jpg
ORGANIZER;CN="Education%20Department":MAILTO:education@americascarmuseum.org
GEO:47.2362706;-122.4304605
X-APPLE-STRUCTURED-LOCATION;VALUE=URI;X-ADDRESS=LeMay – America’s Car Museum 2702 East D Street Tacoma WA 98421 United States;X-APPLE-RADIUS=500;X-TITLE=2702 East D Street:geo:-122.4304605,47.2362706
END:VEVENT
BEGIN:VEVENT
DTSTART;TZID=America/Los_Angeles:20230408T190000
DTEND;TZID=America/Los_Angeles:20230408T230000
DTSTAMP:20230824T044753
CREATED:20181218T042900Z
LAST-MODIFIED:20230324T212136Z
UID:12686-1680980400-1680994800@www.americascarmuseum.org
SUMMARY:Drive the Blues Away: Dance Through The Decades
DESCRIPTION:PURCHASE TICKETS \n \nJoin us for a night of live music\, gourmet bites\, and tastings from distilleries\, wineries\, and breweries. Celebrate our new 75 Years of Porsche exhibit as we dance\, drink\, eat\, and party through the past seven decades. Enjoy live music from the ’50s all the way to current day\, paired with food and beverages from each decade. \nYour ticket includes full museum access to the Museum! \nThis event is 21+ attendees are expected to show proof of ID upon entry. \nPURCHASE TICKETS \n\n\n\n\nEvent Time/Information: \nExclusive VIP early access: 6-7pm \nGeneral admission entry: 7pm \n  \nEntertainment: \nEntertainment for Drive the Blues Away will feature three bands and a DJ! \n\n\n\n\n\n\n\n\nThe Tropics will be covering your favorite hits from the ’50s and ’60s \n \nChicken Joe & The Fabulous Cocks will be covering your favorite hits from the ’70s and ’80s \n \nFree Rain will be covering your favorite hits from the ’90s to today \n \nDJ Levi will be playing a mixture of tunes throughout the evening in between each band set \n\n\n\n\n\n\n\n\nTicket Prices: \nACM Members: $45 \nACM Member VIP Tickets*: $75 \nEarly Bird General Admission Tickets: $50 \nGeneral Admission Tickets: $55 \nVIP Tickets*: $85 \n*VIP ticket includes 1 hour early entry\, exclusive VIP lounge with private bar and passed appetizers\, commemorative Drive The Blues Away drinking glass. \n\n\n\n\n\n\nPURCHASE TICKETS
URL:https://www.americascarmuseum.org/event/drivethebluesaway/
LOCATION:LeMay – America’s Car Museum\, 2702 East D Street\, Tacoma\, WA\, 98421\, United States
CATEGORIES:Signature Events
ATTACH;FMTTYPE=image/jpeg:https://www.americascarmuseum.org/wp-content/uploads/20190222_ACM_BootleggerBlowout-273-scaled.jpg
GEO:47.2362706;-122.4304605
X-APPLE-STRUCTURED-LOCATION;VALUE=URI;X-ADDRESS=LeMay – America’s Car Museum 2702 East D Street Tacoma WA 98421 United States;X-APPLE-RADIUS=500;X-TITLE=2702 East D Street:geo:-122.4304605,47.2362706
END:VEVENT
BEGIN:VEVENT
DTSTART;TZID=America/Los_Angeles:20230415T110000
DTEND;TZID=America/Los_Angeles:20230415T150000
DTSTAMP:20230824T044753
CREATED:20200128T182833Z
LAST-MODIFIED:20230414T192124Z
UID:20196-1681556400-1681570800@www.americascarmuseum.org
SUMMARY:Family STEAM Days - Renewable Energy Cars featuring MI Elements
DESCRIPTION:The use of renewable forms of energy is a major focus for today’s engineers\, especially within the automotive world. Wind power is one of the simplest and least expensive sources of renewable energy. Today we’ll be using craft supplies and recycled materials to design\, build and race wind-powered model cars\, as we explore how wind power may be utilized in real-world applications. \nToday the ACM Education team will be joined by MI Elements\, an urban off grid lifestyle powered by Fuel From Water Technology. MI Elements will be displaying the only hydrogen-powered vehicle registered in the state of Washington and sharing information about how water can be used to create MI Energy and in turn be able to power every aspect of life\, including vehicles. Currently MI Elements is building the first of their MI Homes\, powered solely by clean\, water-based energy. Stop by to learn more about hydrogen fuel cells and their function as alternatives to fossil fuels! \nDesign\, build\, tinker and learn together as you explore the world of automobiles and its relation to science\, technology\, engineering\, art and math on Family STEAM Day. On the third Saturday of each month\, you and your child\, grandchild\, or family can spend quality time together exploring activities available in the Education Studio and Family Zone. \nFamily STEAM Days are free for ACM Members and is also included with Museum admission. Museum visitors age 18 and under receive FREE admission on Family STEAM Days.
URL:https://www.americascarmuseum.org/event/family-steam-days-2020-04-18-2023-04-15/
LOCATION:LeMay – America’s Car Museum\, 2702 East D Street\, Tacoma\, WA\, 98421\, United States
CATEGORIES:Family STEAM Days
ATTACH;FMTTYPE=image/jpeg:https://www.americascarmuseum.org/wp-content/uploads/IMG_3956.jpg
ORGANIZER;CN="Education%20Department":MAILTO:education@americascarmuseum.org
GEO:47.2362706;-122.4304605
X-APPLE-STRUCTURED-LOCATION;VALUE=URI;X-ADDRESS=LeMay – America’s Car Museum 2702 East D Street Tacoma WA 98421 United States;X-APPLE-RADIUS=500;X-TITLE=2702 East D Street:geo:-122.4304605,47.2362706
END:VEVENT
END:VCALENDAR